BEGIN:VCALENDAR
VERSION:2.0
PRODID:-//American Hellenic Council of California - ECPv6.15.16//NONSGML v1.0//EN
CALSCALE:GREGORIAN
METHOD:PUBLISH
X-ORIGINAL-URL:https://www.americanhellenic.org
X-WR-CALDESC:Events for American Hellenic Council of California
REFRESH-INTERVAL;VALUE=DURATION:PT1H
X-Robots-Tag:noindex
X-PUBLISHED-TTL:PT1H
BEGIN:VTIMEZONE
TZID:America/Los_Angeles
BEGIN:DAYLIGHT
TZOFFSETFROM:-0800
TZOFFSETTO:-0700
TZNAME:PDT
DTSTART:20230312T100000
END:DAYLIGHT
BEGIN:STANDARD
TZOFFSETFROM:-0700
TZOFFSETTO:-0800
TZNAME:PST
DTSTART:20231105T090000
END:STANDARD
BEGIN:DAYLIGHT
TZOFFSETFROM:-0800
TZOFFSETTO:-0700
TZNAME:PDT
DTSTART:20240310T100000
END:DAYLIGHT
BEGIN:STANDARD
TZOFFSETFROM:-0700
TZOFFSETTO:-0800
TZNAME:PST
DTSTART:20241103T090000
END:STANDARD
BEGIN:DAYLIGHT
TZOFFSETFROM:-0800
TZOFFSETTO:-0700
TZNAME:PDT
DTSTART:20250309T100000
END:DAYLIGHT
BEGIN:STANDARD
TZOFFSETFROM:-0700
TZOFFSETTO:-0800
TZNAME:PST
DTSTART:20251102T090000
END:STANDARD
END:VTIMEZONE
BEGIN:VEVENT
DTSTART;TZID=America/Los_Angeles:20241116T180000
DTEND;TZID=America/Los_Angeles:20241116T180000
DTSTAMP:20260423T202536
CREATED:20241026T084125Z
LAST-MODIFIED:20241026T084125Z
UID:10000023-1731780000-1731780000@www.americanhellenic.org
SUMMARY:"The Yiayia Project: Voices of a Generation": a storytelling event
DESCRIPTION:Join us for Greek Heritage Society of Southern California 39th anniversary and a celebration of the stories of the women who are the core of the Greek family. Women who have lived through many challenges but have shown strength\, endurance\, and the ability to adapt and persevere in a new country. Women who have passed on values\, traditions\, and culture to their children and grandchildren.\n\nThrough the eyes of their daughters and granddaughters\, you will hear powerful\, touching\, and entertaining stories told by those who have been inspired and guided by these impactful women.\n\nThe event will be accompanied by a reception\, the opportunity to taste desserts passed down by “Yiayia\,” and much more.\n\nThe event is free and open to the public but a donation of $25 to the GHS is kindly requested to support its work.\n\nSpace is limited. Please\, RSVP here
URL:https://www.americanhellenic.org/event/the-yiayia-project-voices-of-a-generation-a-storytelling-event/
LOCATION:The MacIntosh Center University Hall 3900 1 LMU Drive Los Angeles\, CA 90045 (free parking – enter P1)
END:VEVENT
END:VCALENDAR