BEGIN:VCALENDAR
VERSION:2.0
PRODID:-//American Hellenic Council of California - ECPv6.15.16//NONSGML v1.0//EN
CALSCALE:GREGORIAN
METHOD:PUBLISH
X-ORIGINAL-URL:https://www.americanhellenic.org
X-WR-CALDESC:Events for American Hellenic Council of California
REFRESH-INTERVAL;VALUE=DURATION:PT1H
X-Robots-Tag:noindex
X-PUBLISHED-TTL:PT1H
BEGIN:VTIMEZONE
TZID:America/Los_Angeles
BEGIN:DAYLIGHT
TZOFFSETFROM:-0800
TZOFFSETTO:-0700
TZNAME:PDT
DTSTART:20230312T100000
END:DAYLIGHT
BEGIN:STANDARD
TZOFFSETFROM:-0700
TZOFFSETTO:-0800
TZNAME:PST
DTSTART:20231105T090000
END:STANDARD
BEGIN:DAYLIGHT
TZOFFSETFROM:-0800
TZOFFSETTO:-0700
TZNAME:PDT
DTSTART:20240310T100000
END:DAYLIGHT
BEGIN:STANDARD
TZOFFSETFROM:-0700
TZOFFSETTO:-0800
TZNAME:PST
DTSTART:20241103T090000
END:STANDARD
BEGIN:DAYLIGHT
TZOFFSETFROM:-0800
TZOFFSETTO:-0700
TZNAME:PDT
DTSTART:20250309T100000
END:DAYLIGHT
BEGIN:STANDARD
TZOFFSETFROM:-0700
TZOFFSETTO:-0800
TZNAME:PST
DTSTART:20251102T090000
END:STANDARD
END:VTIMEZONE
BEGIN:VEVENT
DTSTART;TZID=America/Los_Angeles:20241123T220000
DTEND;TZID=America/Los_Angeles:20241123T233000
DTSTAMP:20260423T184544
CREATED:20241031T021311Z
LAST-MODIFIED:20241031T021311Z
UID:10000018-1732399200-1732404600@www.americanhellenic.org
SUMMARY:COMEDY IN GREEK! - GIORGOS HATZIPAVLOU IN LOS ANGELES
DESCRIPTION:JOIN THE AMERICAN HELLENIC COUNCIL YOUNG PROFESSIONALS TO THIS GREAT STANDUP COMEDY SHOW\n\n \n\nAfter sell-out shows across 29 cities worldwide\, Greece’s biggest touring comedian\, Giorgos Xatzipavlou\, comes to Los Angeles! \nIn this show\, Giorgos dives into everyday life with his unique blend of storytelling and observational comedy. From family to food\, and topics that resonate deeply with Greek communities everywhere. \n“Unstoppable energy and insightful observations – everything we love about Giorgos Xatzipavlou.”  Athinoram \nSocial Media: \nInstagram: @G_xatzipavlou\nFacebook: facebook.com/giorgosxatzipaulou \nYouTube: @giorgosxatzipavlou \nDoors: 9:30pm | 18+ General Admission\nTickets: $35 Advanced / $40 Day of Show \n10% DISCOUNT AT CHECKOUT FOR AHC MEMBERS WITH CODE: “OFFER” AT CHECKOUT \nLineup subject to change | No item minimum | No late entry \nTICKETS ARE NON-TRANSFERABLE | We do NOT honor tickets through third party sellers \n*Day of show tickets based on availability. \nIf an event is sold out online\, there will be no tickets available at the door unless otherwise posted on our socials.
URL:https://www.americanhellenic.org/event/comedy-in-greek-giorgos-hatzipavlou-in-los-angeles/
LOCATION:Dynasty Typewriter\, 2511 Wilshire Blvd\, Los Angeles\, CA\, 90057\, United States
ORGANIZER;CN="American Hellenic Council":MAILTO:alex@americanhellenic.org
END:VEVENT
END:VCALENDAR