BEGIN:VCALENDAR
VERSION:2.0
PRODID:-//American Hellenic Council of California - ECPv6.15.16//NONSGML v1.0//EN
CALSCALE:GREGORIAN
METHOD:PUBLISH
X-ORIGINAL-URL:https://www.americanhellenic.org
X-WR-CALDESC:Events for American Hellenic Council of California
REFRESH-INTERVAL;VALUE=DURATION:PT1H
X-Robots-Tag:noindex
X-PUBLISHED-TTL:PT1H
BEGIN:VTIMEZONE
TZID:America/Los_Angeles
BEGIN:DAYLIGHT
TZOFFSETFROM:-0800
TZOFFSETTO:-0700
TZNAME:PDT
DTSTART:20230312T100000
END:DAYLIGHT
BEGIN:STANDARD
TZOFFSETFROM:-0700
TZOFFSETTO:-0800
TZNAME:PST
DTSTART:20231105T090000
END:STANDARD
BEGIN:DAYLIGHT
TZOFFSETFROM:-0800
TZOFFSETTO:-0700
TZNAME:PDT
DTSTART:20240310T100000
END:DAYLIGHT
BEGIN:STANDARD
TZOFFSETFROM:-0700
TZOFFSETTO:-0800
TZNAME:PST
DTSTART:20241103T090000
END:STANDARD
BEGIN:DAYLIGHT
TZOFFSETFROM:-0800
TZOFFSETTO:-0700
TZNAME:PDT
DTSTART:20250309T100000
END:DAYLIGHT
BEGIN:STANDARD
TZOFFSETFROM:-0700
TZOFFSETTO:-0800
TZNAME:PST
DTSTART:20251102T090000
END:STANDARD
BEGIN:DAYLIGHT
TZOFFSETFROM:-0800
TZOFFSETTO:-0700
TZNAME:PDT
DTSTART:20260308T100000
END:DAYLIGHT
BEGIN:STANDARD
TZOFFSETFROM:-0700
TZOFFSETTO:-0800
TZNAME:PST
DTSTART:20261101T090000
END:STANDARD
END:VTIMEZONE
BEGIN:VEVENT
DTSTART;TZID=America/Los_Angeles:20250912T180000
DTEND;TZID=America/Los_Angeles:20250912T200000
DTSTAMP:20260423T122009
CREATED:20250802T172611Z
LAST-MODIFIED:20250802T172649Z
UID:10000051-1757700000-1757707200@www.americanhellenic.org
SUMMARY:Backgammon Night - UCLA
DESCRIPTION:Backgammon Night \nFriday\, September 12\, 2025 \n6:00 PM – 8:00 PM \n2117 Rolfe Hall\, UCLA Campus \nJoin us for mezedes and conversation. All skill levels are welcome! \nParticipation is free\, but space is limited! \n\n\n\nClick here to RSVP
URL:https://www.americanhellenic.org/event/backgammon-night-ucla/
LOCATION:2117 Rolfe Hall\, UCLA Campus
END:VEVENT
BEGIN:VEVENT
DTSTART;TZID=America/Los_Angeles:20250620T180000
DTEND;TZID=America/Los_Angeles:20250620T200000
DTSTAMP:20260423T122009
CREATED:20250605T042251Z
LAST-MODIFIED:20250605T042251Z
UID:10000043-1750442400-1750449600@www.americanhellenic.org
SUMMARY:Backgammon Night
DESCRIPTION:Backgammon Night \nFriday\, June 20\, 2025 6:00 PM – 8:00 PM 2117 \nRolfe Hall\, UCLA Campus RSVP This event is free\, but space is limited. Join us for mezedes and conversation. \n2117 Rolfe Hall 345 Portola Plaza\, Los Angeles\, United States
URL:https://www.americanhellenic.org/event/backgammon-night-2/
LOCATION:2117 Rolfe Hall\, UCLA Campus
END:VEVENT
BEGIN:VEVENT
DTSTART;TZID=America/Los_Angeles:20241206T180000
DTEND;TZID=America/Los_Angeles:20241206T200000
DTSTAMP:20260423T122009
CREATED:20241130T202408Z
LAST-MODIFIED:20241130T202408Z
UID:10000025-1733508000-1733515200@www.americanhellenic.org
SUMMARY:Backgammon Night
DESCRIPTION:Backgammon Night \nDecember 6\, 2024\n6:00 PM – 8:00 PM\n \n2117 Rolfe Hall\, UCLA Campus \nParticipation is free; Please RSVP: https://forms.gle/Nbbc6nUkFcDUcuvPA \nJoin us for mezedes and conversation. \nParking for Royce Hall is available in Parking Structure 5 located at: 302 Charles E Young Dr N\, Westwood\, Los Angeles\, CA 90095. Parking Structure 5  is accessible from Royce Drive\, south of Sunset Boulevard\, and west of Hilgard Ave. (in the northeast section of the campus). \nNo parking attendants will be on-site at the parking structure\, and Pay-By-Space/Visitor Parking is extremely limited in this lot\, so we highly encourage you to purchase a parking permit in advance: \n\nTo save time\, you may purchase your parking permit for $16 in advance using Bruin ePermit: https://bruinepermit.t2hosted.com/pnw2/selectevent.aspx. Select “UCLA Campus Event\,” then “Backgammon Night” With the advanced parking permit\, you can park anywhere in Parking Structure 5 EXCEPT in the Pay-by-Space section. For instructions on how to use this portal\, please click here.\nTo purchase a permit when you arrive at Parking Structure 5\, please park ONLY in the Pay-By-Space/Visitor Parking area on the rooftop of this structure\, and proceed to the Self-Service Pay Station machine to pay by credit card (the parking on this level is very limited).\nGuest drop/Ride-share drop off is closest at the turnaround at the front of Royce Hall located at: 10745 Dickson Court\, Los Angeles\, CA 90095.\nAccessible parking: If you have accessibility needs\, you may park in the Pay-By-Space/Visitor Parking area on the rooftop (level 6) of this structure\, and proceed to the Self-Service Pay Station machine to pay by credit card.  Please visit our Campus Accessibility Map to view related information.\n\nFor inquiries\, please contact hellenic@humnet.ucla.edu
URL:https://www.americanhellenic.org/event/backgammon-night/
LOCATION:2117 Rolfe Hall\, UCLA Campus
END:VEVENT
END:VCALENDAR