BEGIN:VCALENDAR
VERSION:2.0
PRODID:-//American Hellenic Council of California - ECPv6.15.16//NONSGML v1.0//EN
CALSCALE:GREGORIAN
METHOD:PUBLISH
X-WR-CALNAME:American Hellenic Council of California
X-ORIGINAL-URL:https://www.americanhellenic.org
X-WR-CALDESC:Events for American Hellenic Council of California
REFRESH-INTERVAL;VALUE=DURATION:PT1H
X-Robots-Tag:noindex
X-PUBLISHED-TTL:PT1H
BEGIN:VTIMEZONE
TZID:America/Los_Angeles
BEGIN:DAYLIGHT
TZOFFSETFROM:-0800
TZOFFSETTO:-0700
TZNAME:PDT
DTSTART:20240310T100000
END:DAYLIGHT
BEGIN:STANDARD
TZOFFSETFROM:-0700
TZOFFSETTO:-0800
TZNAME:PST
DTSTART:20241103T090000
END:STANDARD
BEGIN:DAYLIGHT
TZOFFSETFROM:-0800
TZOFFSETTO:-0700
TZNAME:PDT
DTSTART:20250309T100000
END:DAYLIGHT
BEGIN:STANDARD
TZOFFSETFROM:-0700
TZOFFSETTO:-0800
TZNAME:PST
DTSTART:20251102T090000
END:STANDARD
BEGIN:DAYLIGHT
TZOFFSETFROM:-0800
TZOFFSETTO:-0700
TZNAME:PDT
DTSTART:20260308T100000
END:DAYLIGHT
BEGIN:STANDARD
TZOFFSETFROM:-0700
TZOFFSETTO:-0800
TZNAME:PST
DTSTART:20261101T090000
END:STANDARD
BEGIN:DAYLIGHT
TZOFFSETFROM:-0800
TZOFFSETTO:-0700
TZNAME:PDT
DTSTART:20270314T100000
END:DAYLIGHT
BEGIN:STANDARD
TZOFFSETFROM:-0700
TZOFFSETTO:-0800
TZNAME:PST
DTSTART:20271107T090000
END:STANDARD
END:VTIMEZONE
BEGIN:VEVENT
DTSTART;TZID=America/Los_Angeles:20260117T100000
DTEND;TZID=America/Los_Angeles:20260117T113000
DTSTAMP:20260423T154922
CREATED:20251215T213245Z
LAST-MODIFIED:20260111T035846Z
UID:10000005-1768644000-1768649400@www.americanhellenic.org
SUMMARY:Constantine Cavafy: A New Biography | Zoom event
DESCRIPTION:SATURDAY\, JANUARY 17\, 2026 | 10:00AM PST  | Zoom Presentation \n\n\n\n\n\n\n\n\n\n\n\n\n\n\n\n\n  \n \nCONSTANTINE CAVAFY: A NEW BIOGRAPHY \nA special ZOOM book presentation and conversation \nwith Gregory Jusdanis and Peter Jeffreys\, co-authors of Constantine Cavafy: A New Biography. \nDrawing on extensive archival research\, the authors offer the first major reexamination of Cavafy’s life in nearly 50 years\, revealing the man behind the poems and the city that shaped him. The event will feature a moderated discussion followed by audience Q&A. \nYou may register here \nOrganized by the The Basil P. Caloyeras Center for Modern Greek Studies at LMU
URL:https://www.americanhellenic.org/event/constantine-cavafy-a-new-biography-zoom/
LOCATION:Zoom Meeting
END:VEVENT
BEGIN:VEVENT
DTSTART;TZID=America/Los_Angeles:20250413T160000
DTEND;TZID=America/Los_Angeles:20250413T170000
DTSTAMP:20260423T154922
CREATED:20250402T004624Z
LAST-MODIFIED:20250402T004624Z
UID:10000031-1744560000-1744563600@www.americanhellenic.org
SUMMARY:A TRIBUTE TO KOSTIS PALAMAS: RENOWNED POET AND COMPOSER OF THE ORIGINAL OLYMPIC HYMN
DESCRIPTION:Professor THEODORE MALLIAS (University of Patras)\n\nA presentation of Prof. Mallias book-album\nOlympism-Olympic Hymn-Kostis Palamas\non the significance of the Olympic Hymn that was adopted in 1896\nfor the first modern Olympic games in Athens\n\nSunday\, April 13\n4:00 pm \nUniversity Hall 3800 (3rd floor)\n(free parking – enter P1)\n*The presentation is in Greek with audiovisual material in Greek and English\nThe event is co-hosted by the Greek Heritage Society of Southern California and the Hellenic Library of Southern California\nSpace is limited. Please\, RSVP here
URL:https://www.americanhellenic.org/event/a-tribute-to-kostis-palamas-renowned-poet-and-composer-of-the-original-olympic-hymn/
LOCATION:Loyola Marymount University\, 1 Loyola Marymount University Dr\,\, Los Angeles\, 90045\, United States
END:VEVENT
END:VCALENDAR