BEGIN:VCALENDAR
VERSION:2.0
PRODID:-//American Hellenic Council of California - ECPv6.15.16//NONSGML v1.0//EN
CALSCALE:GREGORIAN
METHOD:PUBLISH
X-WR-CALNAME:American Hellenic Council of California
X-ORIGINAL-URL:https://www.americanhellenic.org
X-WR-CALDESC:Events for American Hellenic Council of California
REFRESH-INTERVAL;VALUE=DURATION:PT1H
X-Robots-Tag:noindex
X-PUBLISHED-TTL:PT1H
BEGIN:VTIMEZONE
TZID:America/Los_Angeles
BEGIN:DAYLIGHT
TZOFFSETFROM:-0800
TZOFFSETTO:-0700
TZNAME:PDT
DTSTART:20230312T100000
END:DAYLIGHT
BEGIN:STANDARD
TZOFFSETFROM:-0700
TZOFFSETTO:-0800
TZNAME:PST
DTSTART:20231105T090000
END:STANDARD
BEGIN:DAYLIGHT
TZOFFSETFROM:-0800
TZOFFSETTO:-0700
TZNAME:PDT
DTSTART:20240310T100000
END:DAYLIGHT
BEGIN:STANDARD
TZOFFSETFROM:-0700
TZOFFSETTO:-0800
TZNAME:PST
DTSTART:20241103T090000
END:STANDARD
BEGIN:DAYLIGHT
TZOFFSETFROM:-0800
TZOFFSETTO:-0700
TZNAME:PDT
DTSTART:20250309T100000
END:DAYLIGHT
BEGIN:STANDARD
TZOFFSETFROM:-0700
TZOFFSETTO:-0800
TZNAME:PST
DTSTART:20251102T090000
END:STANDARD
BEGIN:DAYLIGHT
TZOFFSETFROM:-0800
TZOFFSETTO:-0700
TZNAME:PDT
DTSTART:20260308T100000
END:DAYLIGHT
BEGIN:STANDARD
TZOFFSETFROM:-0700
TZOFFSETTO:-0800
TZNAME:PST
DTSTART:20261101T090000
END:STANDARD
BEGIN:DAYLIGHT
TZOFFSETFROM:-0800
TZOFFSETTO:-0700
TZNAME:PDT
DTSTART:20270314T100000
END:DAYLIGHT
BEGIN:STANDARD
TZOFFSETFROM:-0700
TZOFFSETTO:-0800
TZNAME:PST
DTSTART:20271107T090000
END:STANDARD
END:VTIMEZONE
BEGIN:VEVENT
DTSTART;TZID=America/Los_Angeles:20260328T043000
DTEND;TZID=America/Los_Angeles:20260328T210000
DTSTAMP:20260423T152621
CREATED:20260317T013007Z
LAST-MODIFIED:20260317T013007Z
UID:10000072-1774672200-1774731600@www.americanhellenic.org
SUMMARY:2nd GREEK HERITAGE NIGHT - LA KINGS
DESCRIPTION:Join the Greek Consulate General and celebrate the 2nd Annual Greek Heritage Night on March 28th as the LA Kings take on the Utah Mammoth at 6:00PM.  \nPackages start at $80 and includes access to pregame reception (starting at 4:30PM)\, LA Kings Greek heritage Night Jersey and Post-Game Photo on the Ice! \nA portion of the proceeds supports Kids n’ Cancer.  \nA special night of hockey\, culture\, and community. \nUse the QR code on poster for tickets \n\n 
URL:https://www.americanhellenic.org/event/2nd-greek-heritage-night-la-kings/
END:VEVENT
BEGIN:VEVENT
DTSTART;TZID=America/Los_Angeles:20250709T060000
DTEND;TZID=America/Los_Angeles:20250709T080000
DTSTAMP:20260423T152621
CREATED:20250705T162256Z
LAST-MODIFIED:20260212T115546Z
UID:10000029-1752040800-1752048000@www.americanhellenic.org
SUMMARY:Information Seminar for Greeks Abroad
DESCRIPTION:Information Seminar for Greeks Abroad – Online Event\nAre you a Greek living abroadJoin us for a valuable online information session on key tax and relocation matters in Greece\, organized by the General Secretariat for Greeks Abroad and Public Diplomacy Greek Ministry of Foreign Affairs | Η Ελλάδα στον Κόσμο in collaboration with Independent Authority for Public Revenue (AADE).\n\n\n Topics include:\n Tax registration & residency\n Transferring tax residence abroad\n Alternative taxation options\n Customs exemptions for relocation\n Income & property taxation\n Online transactions with AADE\n Starting a business in Greece\n…and more!\n\n\n Date: Wednesday\, July 9\, 2025\n Time: 4-6pm (EET) / 6-8am (PST)\nLanguage: English\n Live Q&A\n\n\n Introduced by:\n• Ms. Maira Myrogianni\, Secretary General for Greeks Abroad and Public Diplomacy\n• Mr. Giorgos Pitsilis\, Governor of AADE\n\n\n\n To register\, email your full name and address to gapd@mfa.gr by July 7 to receive your participation link.
URL:https://www.americanhellenic.org/event/information-seminar-for-greeks-abroad/
END:VEVENT
BEGIN:VEVENT
DTSTART;TZID=America/Los_Angeles:20250322T190000
DTEND;TZID=America/Los_Angeles:20250322T210000
DTSTAMP:20260423T152621
CREATED:20241130T205129Z
LAST-MODIFIED:20250225T201358Z
UID:10000027-1742670000-1742677200@www.americanhellenic.org
SUMMARY:Independence Day Celebration organized by the Greek Consulate in LA
DESCRIPTION:
URL:https://www.americanhellenic.org/event/independence-day-celebration-hosted-by-the-greek-consulate/
LOCATION:Huffington Center at Saint Sophia Cathedral\, 1324 S. Normandie Ave\, Los Angeles\, CA\, 90006\, United States
END:VEVENT
BEGIN:VEVENT
DTSTART;TZID=America/Los_Angeles:20241101T110000
DTEND;TZID=America/Los_Angeles:20241101T123000
DTSTAMP:20260423T152621
CREATED:20241027T045200Z
LAST-MODIFIED:20241027T045200Z
UID:10000017-1730458800-1730464200@www.americanhellenic.org
SUMMARY:Open Discussion with the Consul General of Greece and the President and Chairman of the American Hellenic Council of California
DESCRIPTION:  \nThe USC Viterbi School of Engineering cordially invites you to an open discussion with the Consul General of Greece in Los Angeles\, Ms. Christina Valassopoulou and the President and Chairman of the American Hellenic Council of California\, Prof. Spiros Lazaris \nFriday\, November 1st \n11:00 am – 12:30 pm \nOlin Hall of Engineering (OHE) 136 \n3650 McClintock Ave\, Los Angeles\, CA 90089 \nThe agenda will include a lecture\, followed by a Q&A session\, allowing for an interactive dialogue with the audience. \nA light reception will follow\, providing further networking opportunities. A great opportunity for USC students of Hellenic heritage. \nTo RSVP\, please click on Event link below
URL:https://www.americanhellenic.org/event/open-discussion-with-the-consul-general-of-greece-and-the-president-and-chairman-of-the-american-hellenic-council-of-california/
ORGANIZER;CN="American Hellenic Council":MAILTO:alex@americanhellenic.org
END:VEVENT
END:VCALENDAR