BEGIN:VCALENDAR
VERSION:2.0
PRODID:-//American Hellenic Council of California - ECPv6.15.16//NONSGML v1.0//EN
CALSCALE:GREGORIAN
METHOD:PUBLISH
X-ORIGINAL-URL:https://www.americanhellenic.org
X-WR-CALDESC:Events for American Hellenic Council of California
REFRESH-INTERVAL;VALUE=DURATION:PT1H
X-Robots-Tag:noindex
X-PUBLISHED-TTL:PT1H
BEGIN:VTIMEZONE
TZID:America/Los_Angeles
BEGIN:DAYLIGHT
TZOFFSETFROM:-0800
TZOFFSETTO:-0700
TZNAME:PDT
DTSTART:20240310T100000
END:DAYLIGHT
BEGIN:STANDARD
TZOFFSETFROM:-0700
TZOFFSETTO:-0800
TZNAME:PST
DTSTART:20241103T090000
END:STANDARD
BEGIN:DAYLIGHT
TZOFFSETFROM:-0800
TZOFFSETTO:-0700
TZNAME:PDT
DTSTART:20250309T100000
END:DAYLIGHT
BEGIN:STANDARD
TZOFFSETFROM:-0700
TZOFFSETTO:-0800
TZNAME:PST
DTSTART:20251102T090000
END:STANDARD
BEGIN:DAYLIGHT
TZOFFSETFROM:-0800
TZOFFSETTO:-0700
TZNAME:PDT
DTSTART:20260308T100000
END:DAYLIGHT
BEGIN:STANDARD
TZOFFSETFROM:-0700
TZOFFSETTO:-0800
TZNAME:PST
DTSTART:20261101T090000
END:STANDARD
END:VTIMEZONE
BEGIN:VEVENT
DTSTART;TZID=America/Los_Angeles:20251102T160000
DTEND;TZID=America/Los_Angeles:20251102T180000
DTSTAMP:20260423T165817
CREATED:20251025T231751Z
LAST-MODIFIED:20251025T231806Z
UID:10000057-1762099200-1762106400@www.americanhellenic.org
SUMMARY:HAWC PACIFIC - Up Close and Personal with Sokratis Alafouzos
DESCRIPTION:  \n \n  \nWhen:  Sunday\, November 2\, 2025\, at 4:00 PM \nWhere:  ROOM 3900 – George and Cleola Gavalas Library \n  \n  \nRSVP:  hawcpacific@gmail.com  
URL:https://www.americanhellenic.org/event/hawc-pacific-up-close-and-personal-with-sokratis-alafouzos/
LOCATION:Loyola Marymount University\, 1 Loyola Marymount University Dr\,\, Los Angeles\, 90045\, United States
END:VEVENT
BEGIN:VEVENT
DTSTART;TZID=America/Los_Angeles:20251115T140000
DTEND;TZID=America/Los_Angeles:20251115T170000
DTSTAMP:20260423T165817
CREATED:20251025T232512Z
LAST-MODIFIED:20251025T232512Z
UID:10000058-1763215200-1763226000@www.americanhellenic.org
SUMMARY:Between the Minoans and the Mycenaeans: Craft Technologies in the Second Millennium BCE Aegean
DESCRIPTION:Between the Minoans and the Mycenaeans: Craft Technologies in the Second Millennium BCE Aegean \nLecture by Nikolas Papadimitriou (Director\, Paul and Alexandra Canellopoulos Museum\, Athens) and Eleni Konstantinidi-Syvridi (Curator\, Department of Prehistoric\, Egyptian\, Cypriot and Near Eastern Collections of Antiquities\, at the Hellenic National Archaeological Museum\, Athens) \nDemonstration by Akis Goumas (contemporary jewelry maker and researcher of ancient crafting technologies) \nHosted by the\nUCLA SNF Center for the Study of Hellenic Culture \nin collaboration with\nThe J. Paul Getty Museum\nand held in conjunction with the exhibition\nThe Kingdom of Pylos: Warrior-Princes of Mycenaean Greece \nSaturday\, November 15\, 2025\n2:00 P.M.\n314 Royce Hall\, UCLA Campus \nDue to high demand\, registration is now closed. Please fill out this waitlist form if you would like to be notified of any openings. \nA recording of the event will be made available on our YouTube channel soon after. \nThe Kingdom of Pylos: Warrior-Princes of Mycenaean Greece exhibition at the Getty Villa brings together some of the most exquisite artistic creations of the second millennium BCE Aegean. Many of these objects were the products of cultural fusion and combined elements from different artistic traditions originating in Minoan Crete\, Mycenaean Greece\, and areas far beyond. This presentation will examine the highly demanding techniques goldsmiths and seal-engravers used to create many of the objects in this exhibition. Following the lecture\, Akis Goumas will demonstrate the main steps of the technical processes involved in Mycenaean gold-working (sheet metal\, wire\, granulation\, etc.) and Minoan seal-engraving (soft materials and hard stones). \nDemonstration by Akis Goumas \nThe artist and researcher of ancient technologies Akis Goumas will demonstrate the main steps of the technical processes involved in: \n– Mycenaean gold-working (sheet metal\, wire\, granulation etc.)\n– Minoan seal-engraving (soft materials and hard stones). \nThe demonstration is based on the results of studies conducted in the National Archaeological Museum of Athens\, the Herakleion Archaeological Museum\, other museums in Greece\, and the Corpus of Minoan and Mycenaean Seals at Heidelberg\, Germany\, which involved microscopic examination of artefacts\, archaeometric analyses and experimental reconstructions. \nThe studies have been conducted in collaboration with Dr Eleni Konstantinidi-Syvridi\, of the National Archaeological Museum of Athens\, and Dr Nikolas Papadimitirou\, of the Paul and Alexandra Canellopoulos Museum\, Athens. Participants will have the opportunity to discuss with Mr Goumas and try some of the tools and materials used in the experiments. \nBios:\nNikolas Papadimitriou is the Director of the Paul and Alexandra Canellopoulos Museum\, Athens\, Greece (www.camu.gr). He specializes in the Aegean Bronze Age\, with an emphasis on Mycenaean burial practices\, cultural interaction in the Mediterranean in the 2nd millennium BCE\, the prehistory of Athens and Attica\, and the study of craft technologies. Previously\, he worked as a Lecturer at the Institute of Classical Archaeology\, Heidelberg University\, Germany\, the Museum of Cycladic Art\, Athens and the Cyprus Department of Antiquities. Currently\, he is co-directing research projects at the archaeological sites of Marathon\, Thorikos (Attica) and Kato Samikon (Elis). He has a rich publication record and has received research fellowships from the Centers of Hellenic Studies at Princeton and Harvard (2011\, 2017). \nEleni Konstantinidi-Syvridi is Curator at the Department of Prehistoric\, Egyptian\, Cypriot and Near Eastern Collections of Antiquities at the National Archaeological Museum\, Athens (https://www.namuseum.gr/en/). She graduated from the University of Ioannina\, Greece\, and received her PhD at the University of Birmingham\, UK. Her research focuses on the Late Bronze Age Aegean and the Eastern Mediterranean\, with special interest in Mycenaean jewelry and dress. She has given seminars and lectures on the history and technology of Mycenaean jewelry in Greece and abroad and has written articles and book chapters on various Late Bronze Age issues. For the past decade\, she has been co-directing a multi-disciplinary project for the reconstruction of ancient gold-working techniques\, while she is currently studying the corpus of metal signet rings housed in the Mycenaean Collection of the National Archaeological Museum. \nAkis Goumas is a contemporary jewelry maker and researcher of ancient crafting technologies. After receiving a Diploma in Economics (1978)\, he was trained as a jeweler and silversmith. From 1982 to 1986 he studied gemology and seal engraving in Greece and Germany. Between 1990 and 2006 he was the head designer in the jewelry company ONAR. Since 2000\, he has been teaching creative jewelry at the Chalkis School of Art\, and since 2017 at the ANAMMA Jewelry School in Athens\, and the ALCHIMIA Contemporary Jewelry School in Florence. Since 2006\, he is member of an interdisciplinary group of researchers\, who study ancient gold-working and seal-engraving techniques. In 2021 he was a Visiting Artist at the Harvard Center for Hellenic Studies. Ιn 2023-24\, he was the holder of a Homo Faber fellowship\, established by Jaeger LeCoultre and Michelangelo Foundation for Creativity and Craftsmanship. In 2024-25 he participated in the organization of the exhibition “Art in Gold. Jewelry in Hellenistic Times” at the Benaki Museum\, Athens\, Greece. \nThis event is organized by Professor David Schneller (UCLA) and Dr. Claire Lyons (Getty) and is made possible thanks to the Stavros Niarchos Foundation (SNF). \nCo-Sponsored by: \nUCLA College\, Division of Humanities\nThe Peter J. and Caroline B. Caloyeras Endowment for the Arts\nThe George P. Kolovos Family Centennial Term Chair in Hellenic Studies\nThe Joan Palevsky Chair of Classics at UCLA\nGefyra\nUCLA Global Antiquity\nUCLA Department of Art History\nUCLA Department of Classics\nUCLA Department of Near Eastern Languages & Cultures\nUCLA David C. Copley Center for the Study of Costume Design \n\n\n\n\nVenue\n\n\nRoyce Hall\, 314\n\n\n10745 Dickson Ct\nLos Angeles\, CA 90095 United States
URL:https://www.americanhellenic.org/event/between-the-minoans-and-the-mycenaeans-craft-technologies-in-the-second-millennium-bce-aegean/
LOCATION:314 Royce Hall\, UCLA Campus
END:VEVENT
BEGIN:VEVENT
DTSTART;TZID=America/Los_Angeles:20251116T160000
DTEND;TZID=America/Los_Angeles:20251116T180000
DTSTAMP:20260423T165817
CREATED:20251030T120433Z
LAST-MODIFIED:20251110T192358Z
UID:10000002-1763308800-1763316000@www.americanhellenic.org
SUMMARY:Greece as a Pillar of Stability  in the Mediterranean and Beyond:  Perspectives and Prospects
DESCRIPTION:Greece as a Pillar of Stability in the Mediterranean and Beyond: Perspectives and Prospects \na lecture by Dr. Alexandros Kyriakidis \nThe Caloyeras Center is pleased to welcome Dr. Kyriakidis to LMU and our community.\nHis lecture will focus on the role of Greece as a consistent pillar of stability in the region of the Mediterranean across time\, through a firm geostrategic alignment with the west\, the strong sociopolitical and economic liberal ideals that underpin its sociopolitical and legal systems\, and the pursuit of a foreign policy anchored firmly on international law\, respect\, and promotion of peace and stability\, while ensuring the safeguarding of Greece’s national interests. \nDr. Kyriakidis is an expert on EU politics and constitutional law\, Greek politics and law\, the US political and legal system\, International Relations\, and International Political Economy. \nRSVP \nFree Event-Free Parking
URL:https://www.americanhellenic.org/event/greece-as-a-pillar-of-stability-in-the-mediterranean-and-beyond-perspectives-and-prospects/
LOCATION:Loyola Marymount University\, 1 Loyola Marymount University Dr\,\, Los Angeles\, 90045\, United States
END:VEVENT
BEGIN:VEVENT
DTSTART;TZID=America/Los_Angeles:20251122T160000
DTEND;TZID=America/Los_Angeles:20251122T180000
DTSTAMP:20260423T165817
CREATED:20251025T232827Z
LAST-MODIFIED:20251025T232923Z
UID:10000059-1763827200-1763834400@www.americanhellenic.org
SUMMARY:Pylos and Minoan Crete - Lecture
DESCRIPTION:Pylos and Minoan Crete\n\nNovember 22 @ 4:00 pm – 6:00 pm\nRoyce Hall\, 314\, 10745 Dickson Ct.\nLos Angeles\, CA 90095 United States \n\n\n\nA lecture by \nAndreas G. Vlachopoulos\nProfessor\nUniversity of Ioannina \nHosted by the\nUCLA SNF Center for the Study of Hellenic Culture\nin collaboration with\nThe J. Paul Getty Museum\nand held in conjunction with the exhibition\nThe Kingdom of Pylos: Warrior-Princes of Mycenaean Greece\n(June 27\, 2025 – January 12\, 2026 at The Getty Villa) \nSaturday\, November 22\, 2025\n4:00 p.m.\n314 Royce Hall\, UCLA Campus\nReception to follow \nRSVP Here \nA recording of the event will be made available on our YouTube channel soon after. \nDescription: \nPylos\, a vibrant and sun-drenched coastal region in Messenia (southwestern Peloponnese)\, features a rich landscape and abundant natural resources that closely resemble those of the palace of Knossos on Crete. In the heyday of the Neopalatial period of Crete (c. 1600-1500 BC)\, the area of Pylos gradually became the seat of powerful rulers of the Mycenaean elite\, whose way of life reflected not only the strong influence of the art and aesthetics of the Minoans\, but also a profound fusion of ideological and religious beliefs between the two societies. \nIn this engaging lecture\, we will delve into the historical journey of these two fascinating Aegean cultures. We will uncover the extensive Minoan influence on Pylos and the surrounding Mainland regions\, highlighting how the palatial Mycenaean world of early Greece gradually came into being. Join us for an exploration that illuminates the interconnectedness of these remarkable cultures. \nBio: \nAndreas G. Vlachopoulos is Professor of Prehistoric Archaeology at the University of Ioannina. He completed undergraduate and postgraduate studies in Archaeology at the University of Athens\, specializing in Aegean Prehistory. His 1995 dissertation on the Post-Palatial period on Naxos and the Aegean received the Michael Ventris Award. He has been a Research Fellow at Princeton University (1998-99) and at the New York University Institute of Fine Arts (2001-02). Currently\, Andreas directs the Vathy\, Astypalaia Archaeological Project and the Kokkino Vouno Project at Akrotiri\, Thera. Among his main research interests are the Mycenaean Cyclades\, the Mycenaean period in Pylos\, the Thera frescoes\, and the Aegean Early Bronze Age. He is the author of monographs on Mycenaean Naxos and Astypalaia and the editor of two volumes on Aegean Prehistory (Argonautes and Paintbrushes) and seven volumes on Greek archaeology. He is a Fellow of the Archaeological Society at Athens and a Corresponding Member of the German Archaeological Institute. \nThis event is organized by Professor David Schneller (UCLA) and Dr. Claire Lyons (Getty) and is made possible thanks to the Stavros Niarchos Foundation (SNF). \nCo-Sponsored by: \nUCLA College\, Division of Humanities\nThe Peter J. and Caroline B. Caloyeras Endowment for the Arts\nThe George P. Kolovos Family Centennial Term Chair in Hellenic Studies\nThe Joan Palevsky Chair of Classics at UCLA\nGefyra\nUCLA Global Antiquity\nUCLA Department of Art History\nUCLA Department of Classics\nUCLA Department of Near Eastern Languages & Cultures\nUCLA David C. Copley Center for the Study of Costume Design
URL:https://www.americanhellenic.org/event/pylos-and-minoan-crete-lecture/
LOCATION:314 Royce Hall\, UCLA Campus
END:VEVENT
END:VCALENDAR