BEGIN:VCALENDAR
VERSION:2.0
PRODID:-//American Hellenic Council of California - ECPv6.15.16//NONSGML v1.0//EN
CALSCALE:GREGORIAN
METHOD:PUBLISH
X-WR-CALNAME:American Hellenic Council of California
X-ORIGINAL-URL:https://www.americanhellenic.org
X-WR-CALDESC:Events for American Hellenic Council of California
REFRESH-INTERVAL;VALUE=DURATION:PT1H
X-Robots-Tag:noindex
X-PUBLISHED-TTL:PT1H
BEGIN:VTIMEZONE
TZID:America/Los_Angeles
BEGIN:DAYLIGHT
TZOFFSETFROM:-0800
TZOFFSETTO:-0700
TZNAME:PDT
DTSTART:20240310T100000
END:DAYLIGHT
BEGIN:STANDARD
TZOFFSETFROM:-0700
TZOFFSETTO:-0800
TZNAME:PST
DTSTART:20241103T090000
END:STANDARD
BEGIN:DAYLIGHT
TZOFFSETFROM:-0800
TZOFFSETTO:-0700
TZNAME:PDT
DTSTART:20250309T100000
END:DAYLIGHT
BEGIN:STANDARD
TZOFFSETFROM:-0700
TZOFFSETTO:-0800
TZNAME:PST
DTSTART:20251102T090000
END:STANDARD
BEGIN:DAYLIGHT
TZOFFSETFROM:-0800
TZOFFSETTO:-0700
TZNAME:PDT
DTSTART:20260308T100000
END:DAYLIGHT
BEGIN:STANDARD
TZOFFSETFROM:-0700
TZOFFSETTO:-0800
TZNAME:PST
DTSTART:20261101T090000
END:STANDARD
END:VTIMEZONE
BEGIN:VEVENT
DTSTART;TZID=America/Los_Angeles:20250504T180000
DTEND;TZID=America/Los_Angeles:20250504T210000
DTSTAMP:20260424T021206
CREATED:20250426T225838Z
LAST-MODIFIED:20250504T014020Z
UID:10000040-1746381600-1746392400@www.americanhellenic.org
SUMMARY:STELIOS - ΥΠΑΡΧΩ Avant-Premiere Film Screening
DESCRIPTION:Los Angeles Greek Film Festival presents the West Coast Avant Premiere of STELIOS – ΥΠΑΡΧΩ \nMay 4\, 2025 \nHarmony Gold Theater \n7655 Sunset Blvd. \nLos Angeles\, CA 90046 \n  \nFor Tickets
URL:https://www.americanhellenic.org/event/stelios-%cf%85%cf%80%ce%b1%cf%81%cf%87%cf%89-avant-premiere-film-screening/
LOCATION:Harmony Gold Theater\, 7655 Sunset Blvd.\, Los Angeles\, CA\, 90046
ORGANIZER;CN="Los Angeles Greek Film Festival":MAILTO:info@lagreekfilmfestival.org
END:VEVENT
BEGIN:VEVENT
DTSTART;TZID=America/Los_Angeles:20250507T180000
DTEND;TZID=America/Los_Angeles:20250507T210000
DTSTAMP:20260424T021206
CREATED:20250504T012726Z
LAST-MODIFIED:20250504T012726Z
UID:10000046-1746640800-1746651600@www.americanhellenic.org
SUMMARY:THE CYPRUS INSTITUTE  - THE FEDERATION OF CYPRIOT AMERICAN ORGANIZATIONS
DESCRIPTION:THE CYPRUS INSTITUTE \nTHE FEDERATION OF CYPRIOT AMERICAN ORGANIZATIONS \nCordially invite you to a Keynote Lecture by \nProf. Stavros Malas \nPresident of the Cyprus Institute \nJoin us for an insightful evening with Prof. Malas who will highlight the Institute’s groundbreaking work in research and innovation and discuss Cyprus’ rise as a hub for research excellence and international collaboration. He will also share his vision for establishing strategic partnerships with leading U.S.-based institutions. \nWednesday\, May 7\, 2025 at 6:00 p.m. \nAnassa Estiatorio (Private Room\, 2nd floor) \n200 East 60th Street\, New York\, NY 10022 \nRSVP to info@fcaousa.org or (516) 399-2295 for LIVE STREAM link
URL:https://www.americanhellenic.org/event/the-cyprus-institute-the-federation-of-cypriot-american-organizations/
END:VEVENT
BEGIN:VEVENT
DTSTART;TZID=America/Los_Angeles:20250510T180000
DTEND;TZID=America/Los_Angeles:20250510T235900
DTSTAMP:20260424T021206
CREATED:20250223T025956Z
LAST-MODIFIED:20250225T195746Z
UID:10000033-1746900000-1746921540@www.americanhellenic.org
SUMMARY:AHC Annual Gala
DESCRIPTION:Annual Gala at OMNI Hotel
URL:https://www.americanhellenic.org/event/ahc-annual-gala/
LOCATION:OMNI Hotel\, 251 South Olive Street\, Los Angeles\, CA\, 90012\, United States
END:VEVENT
BEGIN:VEVENT
DTSTART;TZID=America/Los_Angeles:20250517T100000
DTEND;TZID=America/Los_Angeles:20250517T110000
DTSTAMP:20260424T021206
CREATED:20250307T011228Z
LAST-MODIFIED:20250315T035621Z
UID:10000035-1747476000-1747479600@www.americanhellenic.org
SUMMARY:Gefyra Book Club: Niki: A Novel by Christos Chomenidis\,
DESCRIPTION:Discussion led by Professor Sharon Gerstel\, Director\, UCLA SNF Center for the Study of Hellenic Culture and Dr. Eirini Kotsovili\, Senior Lecturer\, Global Humanities at Simon Fraser University \nVia Zoom
URL:https://www.americanhellenic.org/event/gefyra-book-club-niki-a-novel-by-christos-chomenidis/
END:VEVENT
BEGIN:VEVENT
DTSTART;VALUE=DATE:20250527
DTEND;VALUE=DATE:20250602
DTSTAMP:20260424T021206
CREATED:20250209T053721Z
LAST-MODIFIED:20250525T001139Z
UID:10000039-1748304000-1748822399@www.americanhellenic.org
SUMMARY:Los Angeles Greek Film Festival
DESCRIPTION:The 19th annual Greek Film Festival will occur from May 27 to June 1\, 2025. \nMore info: www.lagff.org
URL:https://www.americanhellenic.org/event/los-angeles-greek-film-festival/
LOCATION:Egyptian Theater
ORGANIZER;CN="Los Angeles Greek Film Festival":MAILTO:info@lagreekfilmfestival.org
END:VEVENT
BEGIN:VEVENT
DTSTART;TZID=America/Los_Angeles:20250527T163000
DTEND;TZID=America/Los_Angeles:20250527T210000
DTSTAMP:20260424T021206
CREATED:20250518T064601Z
LAST-MODIFIED:20250524T234206Z
UID:10000047-1748363400-1748379600@www.americanhellenic.org
SUMMARY:The Return That Never Was. Cyprus 1974-2024
DESCRIPTION:A powerful movie night featuring ​six thought-provoking films that explore themes of memory\, identity\, and resistance. From stories of people trying to save all the important exhibits of the Archaeological Museum of Cyprus—along with the​ir identity and the​ir history—to haunting depictions of educational camps set up during the Greek Civil War\, each film invites you into a world where ideas and desires are manipulated. You’ll witness the struggles of those living by the buffer zone\, the quiet endurance of a man in opposition to the occupation of his country\, Cyprus\, and his moving reaction to the lifting of this weight. These films are more than entertainment—they are a journey through history\, loss\, and the unyielding spirit of those who refuse to forget. \n \nCyprus and Greek Premiere Films \nSCREENING – Giannis in the cities – 4:30 pm – 6:00 pm \nDirector\, Eleni Alexandraki will be in attendance \nRECEPTION 6:00 – 6:45 pm \nSCREENING – Short Films 6:45 – 7:30 pm \nDirector\, Panayiotis Chistphorou will be in attendance \nSCREENING – The Return that never was. Cyprus 1974-2024 7:30 – 9:00 pm \nMORE INFO HERE \n  \n  \nat Saint Sophia – Gianopulos Theater
URL:https://www.americanhellenic.org/event/the-return-that-never-was-cyprus-1974-2024/
LOCATION:Huffington Center at Saint Sophia Cathedral\, 1324 S. Normandie Ave\, Los Angeles\, CA\, 90006\, United States
ORGANIZER;CN="Los Angeles Greek Film Festival":MAILTO:info@lagreekfilmfestival.org
END:VEVENT
END:VCALENDAR