BEGIN:VCALENDAR
VERSION:2.0
PRODID:-//American Hellenic Council of California - ECPv6.15.16//NONSGML v1.0//EN
CALSCALE:GREGORIAN
METHOD:PUBLISH
X-ORIGINAL-URL:https://www.americanhellenic.org
X-WR-CALDESC:Events for American Hellenic Council of California
REFRESH-INTERVAL;VALUE=DURATION:PT1H
X-Robots-Tag:noindex
X-PUBLISHED-TTL:PT1H
BEGIN:VTIMEZONE
TZID:America/Los_Angeles
BEGIN:DAYLIGHT
TZOFFSETFROM:-0800
TZOFFSETTO:-0700
TZNAME:PDT
DTSTART:20240310T100000
END:DAYLIGHT
BEGIN:STANDARD
TZOFFSETFROM:-0700
TZOFFSETTO:-0800
TZNAME:PST
DTSTART:20241103T090000
END:STANDARD
BEGIN:DAYLIGHT
TZOFFSETFROM:-0800
TZOFFSETTO:-0700
TZNAME:PDT
DTSTART:20250309T100000
END:DAYLIGHT
BEGIN:STANDARD
TZOFFSETFROM:-0700
TZOFFSETTO:-0800
TZNAME:PST
DTSTART:20251102T090000
END:STANDARD
BEGIN:DAYLIGHT
TZOFFSETFROM:-0800
TZOFFSETTO:-0700
TZNAME:PDT
DTSTART:20260308T100000
END:DAYLIGHT
BEGIN:STANDARD
TZOFFSETFROM:-0700
TZOFFSETTO:-0800
TZNAME:PST
DTSTART:20261101T090000
END:STANDARD
END:VTIMEZONE
BEGIN:VEVENT
DTSTART;TZID=America/Los_Angeles:20250309T160000
DTEND;TZID=America/Los_Angeles:20250309T190000
DTSTAMP:20260424T051624
CREATED:20250225T201021Z
LAST-MODIFIED:20250225T201155Z
UID:10000032-1741536000-1741546800@www.americanhellenic.org
SUMMARY:An afternoon with LEON LOGOTHETIS\, director of the documentary "The Kindness Within"
DESCRIPTION:Organized by Hellenic American Woman’s Council \nCo-hosted with CALOYERAS CENTER FOR MODERN GREEK STUDIES \nRSVP by Mar-6-25 at hawcpacific@gmail.com \n 
URL:https://www.americanhellenic.org/event/an-afternoon-with-leon-logothetis-director-of-the-documentary-the-kindness-within/
LOCATION:Loyola Marymount University\, 1 Loyola Marymount University Dr\,\, Los Angeles\, 90045\, United States
END:VEVENT
BEGIN:VEVENT
DTSTART;TZID=America/Los_Angeles:20250322T190000
DTEND;TZID=America/Los_Angeles:20250322T210000
DTSTAMP:20260424T051624
CREATED:20241130T205129Z
LAST-MODIFIED:20250225T201358Z
UID:10000027-1742670000-1742677200@www.americanhellenic.org
SUMMARY:Independence Day Celebration organized by the Greek Consulate in LA
DESCRIPTION:
URL:https://www.americanhellenic.org/event/independence-day-celebration-hosted-by-the-greek-consulate/
LOCATION:Huffington Center at Saint Sophia Cathedral\, 1324 S. Normandie Ave\, Los Angeles\, CA\, 90006\, United States
END:VEVENT
BEGIN:VEVENT
DTSTART;TZID=America/Los_Angeles:20250325T193000
DTEND;TZID=America/Los_Angeles:20250325T193000
DTSTAMP:20260424T051624
CREATED:20250130T215111Z
LAST-MODIFIED:20250130T215111Z
UID:10000036-1742931000-1742931000@www.americanhellenic.org
SUMMARY:Greek Heritage Night Celebration at LA Kings
DESCRIPTION:Join the Los Angeles Kings\, the Consulate General of Greece in Los Angeles\, and the San Francisco Metropolis Philoptochos as we celebrate the Greek Independence Day at Crypto.com Arena! The event will honor Southern California’s Greek-American community and the Greek culture through our shared love of hockey and our Kings. \nAll tickets sold include an exclusive LA Kings Greek Heritage beanie (while supplies last) and access to a pregame reception on City View Terrace! \nA portion of all ticketing proceeds with be donated to KID’S n CANCER\, an organization whose mission is to provide financial and emotional support to families navigating the challenges of childhood cancer\, including facilitating life-saving treatments and care for children in need.
URL:https://www.americanhellenic.org/event/greek-heritage-night-celebration-at-la-kings/
LOCATION:Crypto.com Arena\, 1111 S Figueroa St\, Los Angeles\, CA\, 90015\, United States
END:VEVENT
END:VCALENDAR