BEGIN:VCALENDAR
VERSION:2.0
PRODID:-//American Hellenic Council of California - ECPv6.15.16//NONSGML v1.0//EN
CALSCALE:GREGORIAN
METHOD:PUBLISH
X-WR-CALNAME:American Hellenic Council of California
X-ORIGINAL-URL:https://www.americanhellenic.org
X-WR-CALDESC:Events for American Hellenic Council of California
REFRESH-INTERVAL;VALUE=DURATION:PT1H
X-Robots-Tag:noindex
X-PUBLISHED-TTL:PT1H
BEGIN:VTIMEZONE
TZID:America/Los_Angeles
BEGIN:DAYLIGHT
TZOFFSETFROM:-0800
TZOFFSETTO:-0700
TZNAME:PDT
DTSTART:20150308T100000
END:DAYLIGHT
BEGIN:STANDARD
TZOFFSETFROM:-0700
TZOFFSETTO:-0800
TZNAME:PST
DTSTART:20151101T090000
END:STANDARD
BEGIN:DAYLIGHT
TZOFFSETFROM:-0800
TZOFFSETTO:-0700
TZNAME:PDT
DTSTART:20160313T100000
END:DAYLIGHT
BEGIN:STANDARD
TZOFFSETFROM:-0700
TZOFFSETTO:-0800
TZNAME:PST
DTSTART:20161106T090000
END:STANDARD
BEGIN:DAYLIGHT
TZOFFSETFROM:-0800
TZOFFSETTO:-0700
TZNAME:PDT
DTSTART:20170312T100000
END:DAYLIGHT
BEGIN:STANDARD
TZOFFSETFROM:-0700
TZOFFSETTO:-0800
TZNAME:PST
DTSTART:20171105T090000
END:STANDARD
BEGIN:DAYLIGHT
TZOFFSETFROM:-0800
TZOFFSETTO:-0700
TZNAME:PDT
DTSTART:20180311T100000
END:DAYLIGHT
BEGIN:STANDARD
TZOFFSETFROM:-0700
TZOFFSETTO:-0800
TZNAME:PST
DTSTART:20181104T090000
END:STANDARD
BEGIN:DAYLIGHT
TZOFFSETFROM:-0800
TZOFFSETTO:-0700
TZNAME:PDT
DTSTART:20190310T100000
END:DAYLIGHT
BEGIN:STANDARD
TZOFFSETFROM:-0700
TZOFFSETTO:-0800
TZNAME:PST
DTSTART:20191103T090000
END:STANDARD
BEGIN:DAYLIGHT
TZOFFSETFROM:-0800
TZOFFSETTO:-0700
TZNAME:PDT
DTSTART:20200308T100000
END:DAYLIGHT
BEGIN:STANDARD
TZOFFSETFROM:-0700
TZOFFSETTO:-0800
TZNAME:PST
DTSTART:20201101T090000
END:STANDARD
BEGIN:DAYLIGHT
TZOFFSETFROM:-0800
TZOFFSETTO:-0700
TZNAME:PDT
DTSTART:20210314T100000
END:DAYLIGHT
BEGIN:STANDARD
TZOFFSETFROM:-0700
TZOFFSETTO:-0800
TZNAME:PST
DTSTART:20211107T090000
END:STANDARD
BEGIN:DAYLIGHT
TZOFFSETFROM:-0800
TZOFFSETTO:-0700
TZNAME:PDT
DTSTART:20220313T100000
END:DAYLIGHT
BEGIN:STANDARD
TZOFFSETFROM:-0700
TZOFFSETTO:-0800
TZNAME:PST
DTSTART:20221106T090000
END:STANDARD
BEGIN:DAYLIGHT
TZOFFSETFROM:-0800
TZOFFSETTO:-0700
TZNAME:PDT
DTSTART:20230312T100000
END:DAYLIGHT
BEGIN:STANDARD
TZOFFSETFROM:-0700
TZOFFSETTO:-0800
TZNAME:PST
DTSTART:20231105T090000
END:STANDARD
BEGIN:DAYLIGHT
TZOFFSETFROM:-0800
TZOFFSETTO:-0700
TZNAME:PDT
DTSTART:20240310T100000
END:DAYLIGHT
BEGIN:STANDARD
TZOFFSETFROM:-0700
TZOFFSETTO:-0800
TZNAME:PST
DTSTART:20241103T090000
END:STANDARD
BEGIN:DAYLIGHT
TZOFFSETFROM:-0800
TZOFFSETTO:-0700
TZNAME:PDT
DTSTART:20250309T100000
END:DAYLIGHT
BEGIN:STANDARD
TZOFFSETFROM:-0700
TZOFFSETTO:-0800
TZNAME:PST
DTSTART:20251102T090000
END:STANDARD
END:VTIMEZONE
BEGIN:VEVENT
DTSTART;TZID=America/Los_Angeles:20241116T160000
DTEND;TZID=America/Los_Angeles:20241116T160000
DTSTAMP:20260423T234855
CREATED:20241026T082235Z
LAST-MODIFIED:20241026T082235Z
UID:10000020-1731772800-1731772800@www.americanhellenic.org
SUMMARY:Byzantine Crime Novels in the Twenty-first Century: From History to Fiction
DESCRIPTION:This lecture tackles the question of “authenticity” when writing crime novels set in the remote past. Agapitos’ three novels (published between 2003 and 2009 in Greece) that are set in the first half of ninth-century Byzantium during the rule of the last iconoclast emperor\, Theophilos (r. 829–842)\, form the basis of a lively discussion about the challenges of producing a satisfactory narrative. The fairly clear generic conventions of a traditional British-style mystery are not applicable to a medieval culture such as Byzantium\, starting with the basic issue of the absence of detection and the relevant detective. Contemporary fans of crime fiction have broad expectations about what a detective novel should be\, but they also want a feeling of “real” history in the narrative. In his novels\, the speaker tackles this problem by employing various techniques derived from Byzantine rhetoric and narrative\, while at the same time using archaeological\, historical and textual studies to offer a medieval yet contemporary crime story that feels medieval but is\, in fact\, postmodern. \nPanagiotis Agapitos is the Gutenberg Distinguished Research Fellow in Byzantine Literature at the University of Mainz. Previously\, he taught for 25 years at the University of Cyprus as Professor of Byzantine Literature and Culture in the Department of Byzantine and Modern Greek Studies. He studied at the University of Munich and received his Ph.D. from Harvard University. \nThis event is held under the auspices of the Consulate General of Greece in Los Angeles and made possible thanks to the generous support of the Stavros Niarchos Foundation (SNF). This event is co-sponsored by the UCLA Department of Classics\, UCLA CMRS Center for Early Global Studies\, and the Pourdavoud Institute for the Study of the Iranian World.
URL:https://www.americanhellenic.org/event/byzantine-crime-novels-in-the-twenty-first-century-from-history-to-fiction/
LOCATION:314 Royce Hall\, UCLA Campus
END:VEVENT
BEGIN:VEVENT
DTSTART;TZID=America/Los_Angeles:20241109T100000
DTEND;TZID=America/Los_Angeles:20241109T100000
DTSTAMP:20260423T234855
CREATED:20241026T074704Z
LAST-MODIFIED:20241026T082902Z
UID:10000019-1731146400-1731146400@www.americanhellenic.org
SUMMARY:Book Club: Lysistrata by Aristophanes
DESCRIPTION:Led by Professor Sharon Gerstel\, Director of the UCLA SNF Center for the Study of Hellenic Culture\, and The Honorable Christina Valassopoulou\, Consul General of Greece in Los Angeles\, this academic year’s book club will feature Greek books in translation. \nFrom the publisher: Aristophanes’ play\, Lysistrata\, takes place toward the end of the Peloponnesian War and centers on the lives of the soldiers’ wives. One woman\, Lysistrata\, under the impression that a man’s libido is ultimately his driving force in life\, comes up with an interesting peace solution: to deny their husbands sexual relations until they can settle on a peace agreement that will end the war. However\, Lysistrata’s strategy effectively creates even more war than before as the sexes begin to feud with each other. Aristophanes’ play is both comic and poignant as it reveals the relationship between men and women in classical Athens society. \nThis program is held under the auspices of the Consulate General of Greece in Los Angeles and is made possible thanks to the Stavros Niarchos Foundation (SNF).
URL:https://www.americanhellenic.org/event/book-club-lysistrata-by-aristophanes/
END:VEVENT
BEGIN:VEVENT
DTSTART;TZID=America/Los_Angeles:20241109T083000
DTEND;TZID=America/Los_Angeles:20241109T153000
DTSTAMP:20260423T234855
CREATED:20241026T083654Z
LAST-MODIFIED:20241026T083654Z
UID:10000022-1731141000-1731166200@www.americanhellenic.org
SUMMARY:Modern Muses: Celebrating Contemporary Hellenic American Women in the Arts Conference
DESCRIPTION:The Caloyeras Center is looking forward to hosting HAWC’s Pacific Region annual conference. This year’s theme pays homage to the achievements of exceptional Hellenic American women whose artistic talents resonate with the spirit of the ancient Greek Muses.
URL:https://www.americanhellenic.org/event/modern-muses-celebrating-contemporary-hellenic-american-women-in-the-arts-conference/
LOCATION:Roski Dinning Hall\, University Hall (ground floor) 1 LMU Drive Los Angeles\, CA 90045
END:VEVENT
BEGIN:VEVENT
DTSTART;TZID=America/Los_Angeles:20241108T180000
DTEND;TZID=America/Los_Angeles:20241108T203000
DTSTAMP:20260423T234855
CREATED:20241026T083400Z
LAST-MODIFIED:20241026T083400Z
UID:10000021-1731088800-1731097800@www.americanhellenic.org
SUMMARY:Modern Muses: Celebrating Contemporary Hellenic American Women in the Arts Welcome Reception
DESCRIPTION:The Caloyeras Center is looking forward to hosting HAWC’s Pacific Region annual conference. This year’s theme pays homage to the achievements of exceptional Hellenic American women whose artistic talents resonate with the spirit of the ancient Greek Muses.
URL:https://www.americanhellenic.org/event/modern-muses-celebrating-contemporary-hellenic-american-women-in-the-arts-welcome-reception/
LOCATION:Roski Dinning Hall\, University Hall (ground floor) 1 LMU Drive Los Angeles\, CA 90045
END:VEVENT
BEGIN:VEVENT
DTSTART;TZID=America/Los_Angeles:20241101T110000
DTEND;TZID=America/Los_Angeles:20241101T123000
DTSTAMP:20260423T234855
CREATED:20241027T045200Z
LAST-MODIFIED:20241027T045200Z
UID:10000017-1730458800-1730464200@www.americanhellenic.org
SUMMARY:Open Discussion with the Consul General of Greece and the President and Chairman of the American Hellenic Council of California
DESCRIPTION:  \nThe USC Viterbi School of Engineering cordially invites you to an open discussion with the Consul General of Greece in Los Angeles\, Ms. Christina Valassopoulou and the President and Chairman of the American Hellenic Council of California\, Prof. Spiros Lazaris \nFriday\, November 1st \n11:00 am – 12:30 pm \nOlin Hall of Engineering (OHE) 136 \n3650 McClintock Ave\, Los Angeles\, CA 90089 \nThe agenda will include a lecture\, followed by a Q&A session\, allowing for an interactive dialogue with the audience. \nA light reception will follow\, providing further networking opportunities. A great opportunity for USC students of Hellenic heritage. \nTo RSVP\, please click on Event link below
URL:https://www.americanhellenic.org/event/open-discussion-with-the-consul-general-of-greece-and-the-president-and-chairman-of-the-american-hellenic-council-of-california/
ORGANIZER;CN="American Hellenic Council":MAILTO:alex@americanhellenic.org
END:VEVENT
BEGIN:VEVENT
DTSTART;TZID=America/Los_Angeles:20240127T180000
DTEND;TZID=America/Los_Angeles:20240128T003000
DTSTAMP:20260423T234855
CREATED:20231109T221643Z
LAST-MODIFIED:20231109T222103Z
UID:10000016-1706378400-1706401800@www.americanhellenic.org
SUMMARY:2024 AHC New Year's Gala
DESCRIPTION:Buy Tickets Today!\n  \n 
URL:https://www.americanhellenic.org/event/2024-ahc-new-years-gala/
LOCATION:Sheraton Universal Hotel\, 333 Universal Hollywood Dr\, Universal City\, CA\, 91608\, United States
CATEGORIES:GALA
ATTACH;FMTTYPE=image/png:https://www.americanhellenic.org/wp-content/uploads/2023/11/AHC-Gala-Thumbnail_500x500.png
ORGANIZER;CN="American Hellenic Council":MAILTO:alex@americanhellenic.org
END:VEVENT
BEGIN:VEVENT
DTSTART;TZID=America/Los_Angeles:20200328T180000
DTEND;TZID=America/Los_Angeles:20200329T003000
DTSTAMP:20260423T234855
CREATED:20191101T052417Z
LAST-MODIFIED:20200201T050704Z
UID:10000015-1585418400-1585441800@www.americanhellenic.org
SUMMARY:2020 AHC Annual Awards Dinner
DESCRIPTION:Save the Date!\n  \n 
URL:https://www.americanhellenic.org/event/2020-ahc-annual-awards-dinner/
LOCATION:Sheraton Universal Hotel\, 333 Universal Hollywood Dr\, Universal City\, CA\, 91608\, United States
CATEGORIES:GALA
ORGANIZER;CN="American Hellenic Council":MAILTO:alex@americanhellenic.org
END:VEVENT
BEGIN:VEVENT
DTSTART;TZID=America/Los_Angeles:20190330T180000
DTEND;TZID=America/Los_Angeles:20190330T233000
DTSTAMP:20260423T234855
CREATED:20190724T014557Z
LAST-MODIFIED:20190724T014557Z
UID:10000014-1553968800-1553988600@www.americanhellenic.org
SUMMARY:2019 Annual Awards Dinner
DESCRIPTION:
URL:https://www.americanhellenic.org/event/2019-annual-awards-dinner/
LOCATION:Sheraton Universal Hotel\, 333 Universal Hollywood Dr\, Universal City\, CA\, 91608\, United States
END:VEVENT
BEGIN:VEVENT
DTSTART;TZID=America/Los_Angeles:20180331T180000
DTEND;TZID=America/Los_Angeles:20180331T233000
DTSTAMP:20260423T234855
CREATED:20190724T014439Z
LAST-MODIFIED:20190724T014439Z
UID:10000013-1522519200-1522539000@www.americanhellenic.org
SUMMARY:2018 Annual Awards Dinner
DESCRIPTION:
URL:https://www.americanhellenic.org/event/2018-annual-awards-dinner/
LOCATION:Sheraton Universal Hotel\, 333 Universal Hollywood Dr\, Universal City\, CA\, 91608\, United States
END:VEVENT
BEGIN:VEVENT
DTSTART;TZID=America/Los_Angeles:20170401T180000
DTEND;TZID=America/Los_Angeles:20170401T233000
DTSTAMP:20260423T234855
CREATED:20190724T014329Z
LAST-MODIFIED:20190724T014329Z
UID:10000012-1491069600-1491089400@www.americanhellenic.org
SUMMARY:2017 Annual Awards Dinner
DESCRIPTION:
URL:https://www.americanhellenic.org/event/2017-annual-awards-dinner/
LOCATION:Sheraton Universal Hotel\, 333 Universal Hollywood Dr\, Universal City\, CA\, 91608\, United States
END:VEVENT
BEGIN:VEVENT
DTSTART;TZID=America/Los_Angeles:20160402T180000
DTEND;TZID=America/Los_Angeles:20160402T233000
DTSTAMP:20260423T234855
CREATED:20190724T014042Z
LAST-MODIFIED:20190724T014102Z
UID:10000011-1459620000-1459639800@www.americanhellenic.org
SUMMARY:2016 Annual Awards Dinner
DESCRIPTION:
URL:https://www.americanhellenic.org/event/2016-awards-dinner/
LOCATION:Sheraton Universal Hotel\, 333 Universal Hollywood Dr\, Universal City\, CA\, 91608\, United States
END:VEVENT
END:VCALENDAR