BEGIN:VCALENDAR
VERSION:2.0
PRODID:-//American Hellenic Council of California - ECPv6.15.16//NONSGML v1.0//EN
CALSCALE:GREGORIAN
METHOD:PUBLISH
X-ORIGINAL-URL:https://www.americanhellenic.org
X-WR-CALDESC:Events for American Hellenic Council of California
REFRESH-INTERVAL;VALUE=DURATION:PT1H
X-Robots-Tag:noindex
X-PUBLISHED-TTL:PT1H
BEGIN:VTIMEZONE
TZID:America/Los_Angeles
BEGIN:DAYLIGHT
TZOFFSETFROM:-0800
TZOFFSETTO:-0700
TZNAME:PDT
DTSTART:20250309T100000
END:DAYLIGHT
BEGIN:STANDARD
TZOFFSETFROM:-0700
TZOFFSETTO:-0800
TZNAME:PST
DTSTART:20251102T090000
END:STANDARD
BEGIN:DAYLIGHT
TZOFFSETFROM:-0800
TZOFFSETTO:-0700
TZNAME:PDT
DTSTART:20260308T100000
END:DAYLIGHT
BEGIN:STANDARD
TZOFFSETFROM:-0700
TZOFFSETTO:-0800
TZNAME:PST
DTSTART:20261101T090000
END:STANDARD
BEGIN:DAYLIGHT
TZOFFSETFROM:-0800
TZOFFSETTO:-0700
TZNAME:PDT
DTSTART:20270314T100000
END:DAYLIGHT
BEGIN:STANDARD
TZOFFSETFROM:-0700
TZOFFSETTO:-0800
TZNAME:PST
DTSTART:20271107T090000
END:STANDARD
END:VTIMEZONE
BEGIN:VEVENT
DTSTART;VALUE=DATE:20260526
DTEND;VALUE=DATE:20260601
DTSTAMP:20260423T153009
CREATED:20260412T010319Z
LAST-MODIFIED:20260412T010319Z
UID:10000075-1779753600-1780271999@www.americanhellenic.org
SUMMARY:20th Los Angeles Greek Film Festival
DESCRIPTION:May 26 – 31\, 2026 \nwww.lagff.org \n 
URL:https://www.americanhellenic.org/event/20th-los-angeles-greek-film-festival/
ORGANIZER;CN="Los Angeles Greek Film Festival":MAILTO:info@lagreekfilmfestival.org
END:VEVENT
BEGIN:VEVENT
DTSTART;TZID=America/Los_Angeles:20260530T140000
DTEND;TZID=America/Los_Angeles:20260530T170000
DTSTAMP:20260423T153009
CREATED:20260208T171712Z
LAST-MODIFIED:20260208T171712Z
UID:10000067-1780149600-1780160400@www.americanhellenic.org
SUMMARY:ANTIGONE | Theatrical Performance
DESCRIPTION:ANTIGONE by Sophokles\nA live theatrical performance\nTranslated and Adapted by Kenneth Cavander\nDirected by Andy Wolk \nMay 30\, 2026 \n2:00 P.M.\nAntaeus Theatre Company\nGlendale\, California \nA post-performance talkback with Artistic Director Nike Doukas and Professor Kathryn Morgan (Department of Classics\, UCLA) will follow the show. A reception will take place afterward. \nTickets will be on sale soon! \n“And if I die\nI will die happy.” \nAntigone’s decision to oppose her uncle Kreon’s edict and bury her brother’s body sets into motion a series of events that will challenge the bonds of family\, law\, and justice. Kenneth Cavander (The Curse of Oedipus) returns to Antaeus in a powerful new adaptation of Sophokles’ Antigone. \nDirected by Andy Wolk\, this Greek tragedy delves deep into the clash between duty to the state and loyalty to one’s kin. \n\nMore info: https://hellenic.ucla.edu/event/antigone/ \nAntaeus Theatre Company\, 110 East Broadway\nGlendale\, CA 91205 United States + Google Map
URL:https://www.americanhellenic.org/event/antigone-theatrical-performance/
END:VEVENT
END:VCALENDAR