BEGIN:VCALENDAR
VERSION:2.0
PRODID:-//American Hellenic Council of California - ECPv6.15.16//NONSGML v1.0//EN
CALSCALE:GREGORIAN
METHOD:PUBLISH
X-ORIGINAL-URL:https://www.americanhellenic.org
X-WR-CALDESC:Events for American Hellenic Council of California
REFRESH-INTERVAL;VALUE=DURATION:PT1H
X-Robots-Tag:noindex
X-PUBLISHED-TTL:PT1H
BEGIN:VTIMEZONE
TZID:America/Los_Angeles
BEGIN:DAYLIGHT
TZOFFSETFROM:-0800
TZOFFSETTO:-0700
TZNAME:PDT
DTSTART:20250309T100000
END:DAYLIGHT
BEGIN:STANDARD
TZOFFSETFROM:-0700
TZOFFSETTO:-0800
TZNAME:PST
DTSTART:20251102T090000
END:STANDARD
BEGIN:DAYLIGHT
TZOFFSETFROM:-0800
TZOFFSETTO:-0700
TZNAME:PDT
DTSTART:20260308T100000
END:DAYLIGHT
BEGIN:STANDARD
TZOFFSETFROM:-0700
TZOFFSETTO:-0800
TZNAME:PST
DTSTART:20261101T090000
END:STANDARD
BEGIN:DAYLIGHT
TZOFFSETFROM:-0800
TZOFFSETTO:-0700
TZNAME:PDT
DTSTART:20270314T100000
END:DAYLIGHT
BEGIN:STANDARD
TZOFFSETFROM:-0700
TZOFFSETTO:-0800
TZNAME:PST
DTSTART:20271107T090000
END:STANDARD
END:VTIMEZONE
BEGIN:VEVENT
DTSTART;TZID=America/Los_Angeles:20260517T190000
DTEND;TZID=America/Los_Angeles:20260517T210000
DTSTAMP:20260423T121829
CREATED:20260208T171056Z
LAST-MODIFIED:20260208T171056Z
UID:10000066-1779044400-1779051600@www.americanhellenic.org
SUMMARY:GLENDI! A Community Dance Celebration
DESCRIPTION:May 17 @ 7:00 pm – 9:00 pm\nRolfe Courtyard\, 345 PORTOLA PLAZA\nLos Angeles\, CA 90095 United States + Google Map
URL:https://www.americanhellenic.org/event/glendi-a-community-dance-celebration/
LOCATION:2117 Rolfe Hall\, UCLA Campus
END:VEVENT
END:VCALENDAR