BEGIN:VCALENDAR
VERSION:2.0
PRODID:-//American Hellenic Council of California - ECPv6.15.16//NONSGML v1.0//EN
CALSCALE:GREGORIAN
METHOD:PUBLISH
X-ORIGINAL-URL:https://www.americanhellenic.org
X-WR-CALDESC:Events for American Hellenic Council of California
REFRESH-INTERVAL;VALUE=DURATION:PT1H
X-Robots-Tag:noindex
X-PUBLISHED-TTL:PT1H
BEGIN:VTIMEZONE
TZID:America/Los_Angeles
BEGIN:DAYLIGHT
TZOFFSETFROM:-0800
TZOFFSETTO:-0700
TZNAME:PDT
DTSTART:20250309T100000
END:DAYLIGHT
BEGIN:STANDARD
TZOFFSETFROM:-0700
TZOFFSETTO:-0800
TZNAME:PST
DTSTART:20251102T090000
END:STANDARD
BEGIN:DAYLIGHT
TZOFFSETFROM:-0800
TZOFFSETTO:-0700
TZNAME:PDT
DTSTART:20260308T100000
END:DAYLIGHT
BEGIN:STANDARD
TZOFFSETFROM:-0700
TZOFFSETTO:-0800
TZNAME:PST
DTSTART:20261101T090000
END:STANDARD
BEGIN:DAYLIGHT
TZOFFSETFROM:-0800
TZOFFSETTO:-0700
TZNAME:PDT
DTSTART:20270314T100000
END:DAYLIGHT
BEGIN:STANDARD
TZOFFSETFROM:-0700
TZOFFSETTO:-0800
TZNAME:PST
DTSTART:20271107T090000
END:STANDARD
END:VTIMEZONE
BEGIN:VEVENT
DTSTART;VALUE=DATE:20260320
DTEND;VALUE=DATE:20260323
DTSTAMP:20260423T121914
CREATED:20260211T013018Z
LAST-MODIFIED:20260211T013018Z
UID:10000042-1773964800-1774223999@www.americanhellenic.org
SUMMARY:Greek Viper | One Man Show with Elias Scoufaras
DESCRIPTION:  \n \n  \nTICKETS: www.greekviper.com \nInfo: greekvipershow@gmail.com
URL:https://www.americanhellenic.org/event/greek-viper-one-man-show-with-elias-scoufaras/
END:VEVENT
BEGIN:VEVENT
DTSTART;VALUE=DATE:20260321
DTEND;VALUE=DATE:20260323
DTSTAMP:20260423T121914
CREATED:20260221T064522Z
LAST-MODIFIED:20260303T043701Z
UID:10000068-1774051200-1774223999@www.americanhellenic.org
SUMMARY:OK\, OLYMPIA\, LET'S GO! - Celebration of the life of Academy Award-winning actress Olympia Dukakis
DESCRIPTION:Odyssey Theatre Ensemble presents a multi-media celebration of the life of Academy Award-winning actress Olympia Dukakis \nthat includes “You and Me\,” \na one-act play written by Olympia’s brother\, Apollo Dukakis\, in which he also performs alongside Kandis Chappell. \nThe evening is hosted by playwright and film maker Graham Barnard with special invited guests. \nTwo performances only: Saturday\, March 21 at 8 p.m. & Sunday\, March 22 at 3 p.m. \n  \nOdyssey Theatre\, 2055 S. Sepulveda Blvd.\, West Los Angeles\, 90025; (310) 477-2055; \nwww.OdysseyTheatre.com.
URL:https://www.americanhellenic.org/event/celebration-of-the-life-of-academy-award-winning-actress-olympia-dukakis/
LOCATION:ODYSSEY THEATER
END:VEVENT
END:VCALENDAR