BEGIN:VCALENDAR
VERSION:2.0
PRODID:-//American Hellenic Council of California - ECPv6.15.16//NONSGML v1.0//EN
CALSCALE:GREGORIAN
METHOD:PUBLISH
X-ORIGINAL-URL:https://www.americanhellenic.org
X-WR-CALDESC:Events for American Hellenic Council of California
REFRESH-INTERVAL;VALUE=DURATION:PT1H
X-Robots-Tag:noindex
X-PUBLISHED-TTL:PT1H
BEGIN:VTIMEZONE
TZID:America/Los_Angeles
BEGIN:DAYLIGHT
TZOFFSETFROM:-0800
TZOFFSETTO:-0700
TZNAME:PDT
DTSTART:20250309T100000
END:DAYLIGHT
BEGIN:STANDARD
TZOFFSETFROM:-0700
TZOFFSETTO:-0800
TZNAME:PST
DTSTART:20251102T090000
END:STANDARD
BEGIN:DAYLIGHT
TZOFFSETFROM:-0800
TZOFFSETTO:-0700
TZNAME:PDT
DTSTART:20260308T100000
END:DAYLIGHT
BEGIN:STANDARD
TZOFFSETFROM:-0700
TZOFFSETTO:-0800
TZNAME:PST
DTSTART:20261101T090000
END:STANDARD
BEGIN:DAYLIGHT
TZOFFSETFROM:-0800
TZOFFSETTO:-0700
TZNAME:PDT
DTSTART:20270314T100000
END:DAYLIGHT
BEGIN:STANDARD
TZOFFSETFROM:-0700
TZOFFSETTO:-0800
TZNAME:PST
DTSTART:20271107T090000
END:STANDARD
END:VTIMEZONE
BEGIN:VEVENT
DTSTART;TZID=America/Los_Angeles:20260302T195705
DTEND;TZID=America/Los_Angeles:20260302T195705
DTSTAMP:20260423T121827
CREATED:20260222T015312Z
LAST-MODIFIED:20260303T035705Z
UID:10000069-1772481425-1772481425@www.americanhellenic.org
SUMMARY:HAWC Pacific presents  Dr. Mike Vasilomanolakis - Your EKG results are in: You need a laugh.
DESCRIPTION:“Up Close and Personal” featuring the legendary Dr. Mike Vasilomanolakis as he discusses his latest book\, Flatlines and Laugh Lines. \nDr. Mike has spent decades staring at monitors\, but he’s discovered that the best way to keep a heart beating is to give it something to laugh at.  He’ll be sharing the “behind-the-scrubs” stories that prove medicine is part science\, part soul and a whole lot of “you won’t believe what happened today!“  \nDate:   \nTime:   \nPlace:  LMU Caloyeras Center for Modern Greek Studies University Hall\, 3900 \nEnter P1 for easy access to elevators and 3rd floor – Free Parking \nConfirm your RSVP hawcpacific@gmail.com 
URL:https://www.americanhellenic.org/event/hawc-pacific-presents-dr-e-mike-vasilomanolakis/
LOCATION:Loyola Marymount University\, 1 Loyola Marymount University Dr\,\, Los Angeles\, 90045\, United States
END:VEVENT
END:VCALENDAR