BEGIN:VCALENDAR
VERSION:2.0
PRODID:-//American Hellenic Council of California - ECPv6.15.16//NONSGML v1.0//EN
CALSCALE:GREGORIAN
METHOD:PUBLISH
X-ORIGINAL-URL:https://www.americanhellenic.org
X-WR-CALDESC:Events for American Hellenic Council of California
REFRESH-INTERVAL;VALUE=DURATION:PT1H
X-Robots-Tag:noindex
X-PUBLISHED-TTL:PT1H
BEGIN:VTIMEZONE
TZID:America/Los_Angeles
BEGIN:DAYLIGHT
TZOFFSETFROM:-0800
TZOFFSETTO:-0700
TZNAME:PDT
DTSTART:20250309T100000
END:DAYLIGHT
BEGIN:STANDARD
TZOFFSETFROM:-0700
TZOFFSETTO:-0800
TZNAME:PST
DTSTART:20251102T090000
END:STANDARD
BEGIN:DAYLIGHT
TZOFFSETFROM:-0800
TZOFFSETTO:-0700
TZNAME:PDT
DTSTART:20260308T100000
END:DAYLIGHT
BEGIN:STANDARD
TZOFFSETFROM:-0700
TZOFFSETTO:-0800
TZNAME:PST
DTSTART:20261101T090000
END:STANDARD
BEGIN:DAYLIGHT
TZOFFSETFROM:-0800
TZOFFSETTO:-0700
TZNAME:PDT
DTSTART:20270314T100000
END:DAYLIGHT
BEGIN:STANDARD
TZOFFSETFROM:-0700
TZOFFSETTO:-0800
TZNAME:PST
DTSTART:20271107T090000
END:STANDARD
END:VTIMEZONE
BEGIN:VEVENT
DTSTART;TZID=America/Los_Angeles:20260224T140000
DTEND;TZID=America/Los_Angeles:20260224T160000
DTSTAMP:20260423T121827
CREATED:20260208T164635Z
LAST-MODIFIED:20260208T164635Z
UID:10000065-1771941600-1771948800@www.americanhellenic.org
SUMMARY:“Seeing Like a Merchant: Jews and Greeks from Ottoman to Greek Rule” by Paris Papamichos Chronakis (Royal Holloway\, University of London)
DESCRIPTION:Seeing Like a Merchant: Jews and Greeks from Ottoman to Greek Rule \nLecture by \nParis Papamichos Chronakis\nLecturer in Modern Greek History\, Department of History\nRoyal Holloway\, University of London \nPresented by the UCLA Alan D. Leve Center for Jewish Studies and\ncosponsored by the UCLA SNF Center for the Study of Hellenic Culture \nFebruary 24\, 2026\n2:00 P.M.\n314 Royce Hall\, UCLA Campus \nThis event is part of the Maurice Amado Program in Sephardic Studies \nThis event is moderated by Aomar Boum\, Professor\, Maurice Amado Endowed Chair in Sephardic Studies\,\nUCLA Department of Anthropology \nRSVP here \n\nFor more info: https://hellenic.ucla.edu/event/parischronakis/\n.\n\n\nUCLA Royce Hall\, 314\, 10745 Dickson Ct.\nLos Angeles\, CA 90095 United States + Google Map
URL:https://www.americanhellenic.org/event/seeing-like-a-merchant-jews-and-greeks-from-ottoman-to-greek-rule-by-paris-papamichos-chronakis-royal-holloway-university-of-london/
LOCATION:314 Royce Hall\, UCLA Campus
END:VEVENT
END:VCALENDAR