BEGIN:VCALENDAR
VERSION:2.0
PRODID:-//American Hellenic Council of California - ECPv6.15.16//NONSGML v1.0//EN
CALSCALE:GREGORIAN
METHOD:PUBLISH
X-ORIGINAL-URL:https://www.americanhellenic.org
X-WR-CALDESC:Events for American Hellenic Council of California
REFRESH-INTERVAL;VALUE=DURATION:PT1H
X-Robots-Tag:noindex
X-PUBLISHED-TTL:PT1H
BEGIN:VTIMEZONE
TZID:America/Los_Angeles
BEGIN:DAYLIGHT
TZOFFSETFROM:-0800
TZOFFSETTO:-0700
TZNAME:PDT
DTSTART:20250309T100000
END:DAYLIGHT
BEGIN:STANDARD
TZOFFSETFROM:-0700
TZOFFSETTO:-0800
TZNAME:PST
DTSTART:20251102T090000
END:STANDARD
BEGIN:DAYLIGHT
TZOFFSETFROM:-0800
TZOFFSETTO:-0700
TZNAME:PDT
DTSTART:20260308T100000
END:DAYLIGHT
BEGIN:STANDARD
TZOFFSETFROM:-0700
TZOFFSETTO:-0800
TZNAME:PST
DTSTART:20261101T090000
END:STANDARD
BEGIN:DAYLIGHT
TZOFFSETFROM:-0800
TZOFFSETTO:-0700
TZNAME:PDT
DTSTART:20270314T100000
END:DAYLIGHT
BEGIN:STANDARD
TZOFFSETFROM:-0700
TZOFFSETTO:-0800
TZNAME:PST
DTSTART:20271107T090000
END:STANDARD
END:VTIMEZONE
BEGIN:VEVENT
DTSTART;TZID=America/Los_Angeles:20260222T020000
DTEND;TZID=America/Los_Angeles:20260222T020000
DTSTAMP:20260423T134706
CREATED:20260208T162355Z
LAST-MODIFIED:20260208T162355Z
UID:10000062-1771725600-1771725600@www.americanhellenic.org
SUMMARY:Clean Monday (Kathara Deftera)
DESCRIPTION:Clean Monday (Kathara Deftera) \nSunday\, February 22\, 2026\n2:00 P.M.\nJanss Steps\, UCLA Campus \n \nFlying kites to celebrate Kathara Deftera and enjoy light refreshments! \nClean Monday\, known as Kathara Deftera in Greek\, marks the beginning of Lent in Greek Orthodox tradition. This cultural event is widely celebrated in Greece as a day of personal renewal and togetherness. It is traditionally observed with outdoor gatherings\, kite flying\, and the sharing of simple foods. \nRSVP here \nFor questions\, please email hellenic@humnet.ucla.edu.
URL:https://www.americanhellenic.org/event/clean-monday-kathara-deftera/
LOCATION:UCLA Campus
END:VEVENT
BEGIN:VEVENT
DTSTART;TZID=America/Los_Angeles:20260222T140000
DTEND;TZID=America/Los_Angeles:20260222T170000
DTSTAMP:20260423T134706
CREATED:20260202T203223Z
LAST-MODIFIED:20260220T190839Z
UID:10000048-1771768800-1771779600@www.americanhellenic.org
SUMMARY:Live Greek Music and Dance at LMU - An APOKRIA afternoon
DESCRIPTION:Live Greek Music\n  \n\n\n\n\n\n\n\n\n\n\n\n\nSUNDAY\, FEBRUARY 22\, 2026 | 2:00PM PST\n\n\n\n\n\n\n\n\nAn APOKRIA afternoon with live Greek music and dance\n\n\n\n\n\n\n\n\n\n\n\n\n\n\n\n\n\n\n\n\n\n\n\n\n\nJoin us for an afternoon filled with live Greek music performed by local musicians and dancing at The Living Room (Malone Student Center\, 1st floor) for the Sunday of Apokria (the Greek carnival)\, one of the most beloved Greek traditions. Apokria (literally apo-kreo: away from meat) marks the beginning of Lent (Sarakosti).Organized by Prof. Alexandros Kyriakidis and his class Modern Greek History\, Society\, and Culture with the participation of LMU’s Hellenic Cultural Club (HCC)\, the event is open to the community. \nRSVP by Wednesday\, February 18 HERE \n*Free parking at the Life Sciences Building (see the map)
URL:https://www.americanhellenic.org/event/live-greek-music-and-dance-at-lmu/
LOCATION:Loyola Marymount University\, 1 Loyola Marymount University Dr\,\, Los Angeles\, 90045\, United States
END:VEVENT
BEGIN:VEVENT
DTSTART;TZID=America/Los_Angeles:20260222T190000
DTEND;TZID=America/Los_Angeles:20260222T220000
DTSTAMP:20260423T134706
CREATED:20260208T163448Z
LAST-MODIFIED:20260208T163448Z
UID:10000064-1771786800-1771797600@www.americanhellenic.org
SUMMARY:“Giannis in the Cities” Screening and Q&A with Director Eleni Alexandrakis
DESCRIPTION:February 22\, 2026\n7:00 P.M.\nBilly Wilder Theater at the Hammer Museum\n\n\n\n\n\nIn 2025\, Giannis in the Cities\, which was screened at Saint Sophia Greek Orthodox Cathedral in Los Angeles\, won both the Best Feature Film (Orpheus Award) and the Audience Award at the Los Angeles Greek Film Festival (LAGFF). \nTicketing Information: Admission is free. No advance reservations are required. Seats will be assigned when tickets are picked up at the box office and are available on a first-come\, first-served basis. The box office opens one hour before the event. \nPresented by the UCLA SNF Center for the Study of Hellenic Culture\nand the UCLA Film & Television Archive \n  \n\nFor more info: https://hellenic.ucla.edu/event/giannisinthecities/\n\n\nBilly Wilder Theater\, Hammer Museum\, 10899 Wilshire Blvd\nLos Angeles\, CA 90024 United States + Google Map\n 
URL:https://www.americanhellenic.org/event/giannis-in-the-cities-screening-and-qa-with-director-eleni-alexandrakis/
LOCATION:Billy Wilder Theater\, Hammer Museum\, 10899 Wilshire Blvd\, Los Angeles\, 90024
END:VEVENT
END:VCALENDAR