BEGIN:VCALENDAR
VERSION:2.0
PRODID:-//American Hellenic Council of California - ECPv6.15.16//NONSGML v1.0//EN
CALSCALE:GREGORIAN
METHOD:PUBLISH
X-ORIGINAL-URL:https://www.americanhellenic.org
X-WR-CALDESC:Events for American Hellenic Council of California
REFRESH-INTERVAL;VALUE=DURATION:PT1H
X-Robots-Tag:noindex
X-PUBLISHED-TTL:PT1H
BEGIN:VTIMEZONE
TZID:America/Los_Angeles
BEGIN:DAYLIGHT
TZOFFSETFROM:-0800
TZOFFSETTO:-0700
TZNAME:PDT
DTSTART:20250309T100000
END:DAYLIGHT
BEGIN:STANDARD
TZOFFSETFROM:-0700
TZOFFSETTO:-0800
TZNAME:PST
DTSTART:20251102T090000
END:STANDARD
BEGIN:DAYLIGHT
TZOFFSETFROM:-0800
TZOFFSETTO:-0700
TZNAME:PDT
DTSTART:20260308T100000
END:DAYLIGHT
BEGIN:STANDARD
TZOFFSETFROM:-0700
TZOFFSETTO:-0800
TZNAME:PST
DTSTART:20261101T090000
END:STANDARD
BEGIN:DAYLIGHT
TZOFFSETFROM:-0800
TZOFFSETTO:-0700
TZNAME:PDT
DTSTART:20270314T100000
END:DAYLIGHT
BEGIN:STANDARD
TZOFFSETFROM:-0700
TZOFFSETTO:-0800
TZNAME:PST
DTSTART:20271107T090000
END:STANDARD
END:VTIMEZONE
BEGIN:VEVENT
DTSTART;TZID=America/Los_Angeles:20260207T190000
DTEND;TZID=America/Los_Angeles:20260207T210000
DTSTAMP:20260423T134649
CREATED:20251215T212540Z
LAST-MODIFIED:20251228T231144Z
UID:10000004-1770490800-1770498000@www.americanhellenic.org
SUMMARY:NICK THE GREEK | a one-woman show
DESCRIPTION:SATURDAY\, FEBRUARY 7\, 2026 | 7:00PM at the ODYSSEY THEATER \n\n\n\n\n\n\n\n\nNICK THE GREEK | a one-woman show \n\n\n\n\n\n\n\n\n\nWritten\, produced\, and performed by award winning actress and producer Angeliki Giannakopoulos\, the play tells the true story of Nick\, a Greek immigrant whose dreams stretched far beyond the limits of his homeland. \n\n\n\n\n\n \n  \nThe performance is co-sponsored by the Hellenic American Women’s Council – Pacific Region and \nthe Caloyeras Center for Modern Greek Studies \n  \nTickets and info: http://itsmyseat.com/nickthegreek \n  \nFor additional information\, contact hawcpacific@gmail.com
URL:https://www.americanhellenic.org/event/nick-the-greek-a-one-woman-show/
LOCATION:ODYSSEY THEATER
END:VEVENT
END:VCALENDAR