BEGIN:VCALENDAR
VERSION:2.0
PRODID:-//American Hellenic Council of California - ECPv6.15.16//NONSGML v1.0//EN
CALSCALE:GREGORIAN
METHOD:PUBLISH
X-WR-CALNAME:American Hellenic Council of California
X-ORIGINAL-URL:https://www.americanhellenic.org
X-WR-CALDESC:Events for American Hellenic Council of California
REFRESH-INTERVAL;VALUE=DURATION:PT1H
X-Robots-Tag:noindex
X-PUBLISHED-TTL:PT1H
BEGIN:VTIMEZONE
TZID:America/Los_Angeles
BEGIN:DAYLIGHT
TZOFFSETFROM:-0800
TZOFFSETTO:-0700
TZNAME:PDT
DTSTART:20250309T100000
END:DAYLIGHT
BEGIN:STANDARD
TZOFFSETFROM:-0700
TZOFFSETTO:-0800
TZNAME:PST
DTSTART:20251102T090000
END:STANDARD
BEGIN:DAYLIGHT
TZOFFSETFROM:-0800
TZOFFSETTO:-0700
TZNAME:PDT
DTSTART:20260308T100000
END:DAYLIGHT
BEGIN:STANDARD
TZOFFSETFROM:-0700
TZOFFSETTO:-0800
TZNAME:PST
DTSTART:20261101T090000
END:STANDARD
BEGIN:DAYLIGHT
TZOFFSETFROM:-0800
TZOFFSETTO:-0700
TZNAME:PDT
DTSTART:20270314T100000
END:DAYLIGHT
BEGIN:STANDARD
TZOFFSETFROM:-0700
TZOFFSETTO:-0800
TZNAME:PST
DTSTART:20271107T090000
END:STANDARD
END:VTIMEZONE
BEGIN:VEVENT
DTSTART;VALUE=DATE:20260130
DTEND;VALUE=DATE:20260202
DTSTAMP:20260423T134505
CREATED:20260124T022533Z
LAST-MODIFIED:20260124T022533Z
UID:10000061-1769731200-1769990399@www.americanhellenic.org
SUMMARY:LAGFF-doc Documentary Film Festival
DESCRIPTION:LAGFF proudly launches LAGFF-doc\, its inaugural Documentary Festival\, dedicated to the courage\, craft\, and hard work of documentary filmmakers whose stories give voice to lived experience and truth. Created to offer these films a distinct platform beyond Greece\, the festival honors excellence with Orpheus Awards for Feature and Short Documentary\, Audience Awards\, and a Social Justice Award offered by Loyola Marymount University (LMU). This first edition is presented in collaboration with LMU\, celebrating powerful stories that deserve to be seen and heard. \n  \n 
URL:https://www.americanhellenic.org/event/lagff-doc-documentary-film-festival/
LOCATION:Loyola Marymount University\, 1 Loyola Marymount University Dr\,\, Los Angeles\, 90045\, United States
ORGANIZER;CN="Los Angeles Greek Film Festival":MAILTO:info@lagreekfilmfestival.org
END:VEVENT
END:VCALENDAR