BEGIN:VCALENDAR
VERSION:2.0
PRODID:-//American Hellenic Council of California - ECPv6.15.16//NONSGML v1.0//EN
CALSCALE:GREGORIAN
METHOD:PUBLISH
X-ORIGINAL-URL:https://www.americanhellenic.org
X-WR-CALDESC:Events for American Hellenic Council of California
REFRESH-INTERVAL;VALUE=DURATION:PT1H
X-Robots-Tag:noindex
X-PUBLISHED-TTL:PT1H
BEGIN:VTIMEZONE
TZID:America/Los_Angeles
BEGIN:DAYLIGHT
TZOFFSETFROM:-0800
TZOFFSETTO:-0700
TZNAME:PDT
DTSTART:20250309T100000
END:DAYLIGHT
BEGIN:STANDARD
TZOFFSETFROM:-0700
TZOFFSETTO:-0800
TZNAME:PST
DTSTART:20251102T090000
END:STANDARD
BEGIN:DAYLIGHT
TZOFFSETFROM:-0800
TZOFFSETTO:-0700
TZNAME:PDT
DTSTART:20260308T100000
END:DAYLIGHT
BEGIN:STANDARD
TZOFFSETFROM:-0700
TZOFFSETTO:-0800
TZNAME:PST
DTSTART:20261101T090000
END:STANDARD
BEGIN:DAYLIGHT
TZOFFSETFROM:-0800
TZOFFSETTO:-0700
TZNAME:PDT
DTSTART:20270314T100000
END:DAYLIGHT
BEGIN:STANDARD
TZOFFSETFROM:-0700
TZOFFSETTO:-0800
TZNAME:PST
DTSTART:20271107T090000
END:STANDARD
END:VTIMEZONE
BEGIN:VEVENT
DTSTART;TZID=America/Los_Angeles:20260124T100000
DTEND;TZID=America/Los_Angeles:20260124T120000
DTSTAMP:20260423T152437
CREATED:20260103T232132Z
LAST-MODIFIED:20260104T065116Z
UID:10000007-1769248800-1769256000@www.americanhellenic.org
SUMMARY:Celebrating Alekos Fassianos \, Greece's Most Iconic Modern Artist | Zoom event
DESCRIPTION:Remembering Alekos Fassianos\nPresented by Art Historian\, Eleni Glinou See her bio at EleniGlinou.com \nHosted by: Hellenic American Women’s Council \nSaturday\, January 24\, 2026 \n11am Eastern 10am Central \n8am Pacific 6pm Athens 4pm London \n  \nRegister for this most interesting and uplifting presentation on modern Greek art. \nhttps://us02web.zoom.us/meeting/register/_VTcDYcHRsWVS9Y3YzU8Vw
URL:https://www.americanhellenic.org/event/celebrating-alekos-fassianos-greeces-most-iconic-modern-artist-zoom-event/
LOCATION:Zoom Meeting
END:VEVENT
END:VCALENDAR