BEGIN:VCALENDAR
VERSION:2.0
PRODID:-//American Hellenic Council of California - ECPv6.15.16//NONSGML v1.0//EN
CALSCALE:GREGORIAN
METHOD:PUBLISH
X-ORIGINAL-URL:https://www.americanhellenic.org
X-WR-CALDESC:Events for American Hellenic Council of California
REFRESH-INTERVAL;VALUE=DURATION:PT1H
X-Robots-Tag:noindex
X-PUBLISHED-TTL:PT1H
BEGIN:VTIMEZONE
TZID:America/Los_Angeles
BEGIN:DAYLIGHT
TZOFFSETFROM:-0800
TZOFFSETTO:-0700
TZNAME:PDT
DTSTART:20240310T100000
END:DAYLIGHT
BEGIN:STANDARD
TZOFFSETFROM:-0700
TZOFFSETTO:-0800
TZNAME:PST
DTSTART:20241103T090000
END:STANDARD
BEGIN:DAYLIGHT
TZOFFSETFROM:-0800
TZOFFSETTO:-0700
TZNAME:PDT
DTSTART:20250309T100000
END:DAYLIGHT
BEGIN:STANDARD
TZOFFSETFROM:-0700
TZOFFSETTO:-0800
TZNAME:PST
DTSTART:20251102T090000
END:STANDARD
BEGIN:DAYLIGHT
TZOFFSETFROM:-0800
TZOFFSETTO:-0700
TZNAME:PDT
DTSTART:20260308T100000
END:DAYLIGHT
BEGIN:STANDARD
TZOFFSETFROM:-0700
TZOFFSETTO:-0800
TZNAME:PST
DTSTART:20261101T090000
END:STANDARD
END:VTIMEZONE
BEGIN:VEVENT
DTSTART;TZID=America/Los_Angeles:20251018T100000
DTEND;TZID=America/Los_Angeles:20251018T110000
DTSTAMP:20260423T200044
CREATED:20250605T043238Z
LAST-MODIFIED:20250605T043238Z
UID:10000044-1760781600-1760785200@www.americanhellenic.org
SUMMARY:BOOKCLUB - The Scapegoat by Sophia Nikolaidou
DESCRIPTION:Gefyra Book Club: \nThe Scapegoat by Sophia Nikolaidou\, trans. Karen Emmerich\n(Melville House\, 2015) \nDiscussion led by Professor Sharon Gerstel\, Director\, UCLA SNF Hellenic Center\nand Dr. Eirini Kotsovili\, Senior Lecturer\, Global Humanities at Simon Fraser University \nSaturday\, October 18\, 2025\n10 A.M. Los Angeles / 8 P.M. Greece\nVia Zoom \nRSVP
URL:https://www.americanhellenic.org/event/bookclub-the-scapegoat-by-sophia-nikolaidou/
LOCATION:Zoom Meeting
END:VEVENT
BEGIN:VEVENT
DTSTART;TZID=America/Los_Angeles:20251018T180000
DTEND;TZID=America/Los_Angeles:20251018T233000
DTSTAMP:20260423T200044
CREATED:20250927T025811Z
LAST-MODIFIED:20250927T025811Z
UID:10000055-1760810400-1760830200@www.americanhellenic.org
SUMMARY:Pan-Arcadians Annual Celebration\, Dinner and Dance
DESCRIPTION:Annual Celebration of the Pan-Arcadian Federation of America \nSaturday\, October 18\, 2025 \nSaint John Greek Orthodox Church in Anaheim\, CA \nNEA MANTINEIA CHAPTER #102 invites you to come celebrate with us the \n37th Annual Commemoration of “ALOSIS TIS TRIPOLITSAS” \n*Live Music\, Dinner\, Dancing\, Fun and Fellowship* \n  \nFor Reservations Call or Email: \nKosta Kapogianis kapogianis@gmail.com (714) 726-7383 \nMaria Kypreos makypreos@gmail.com (626) 272-2720 \nDimitra Kapogianis dimitrak@sbcglobal.net (714) 402-4203 \nNiky Syrengelas nikysyrengelas@gmail.com (951) 285-5480
URL:https://www.americanhellenic.org/event/pan-arcadians-annual-celebration-dinner-and-dance/
END:VEVENT
END:VCALENDAR