BEGIN:VCALENDAR
VERSION:2.0
PRODID:-//American Hellenic Council of California - ECPv6.15.16//NONSGML v1.0//EN
CALSCALE:GREGORIAN
METHOD:PUBLISH
X-ORIGINAL-URL:https://www.americanhellenic.org
X-WR-CALDESC:Events for American Hellenic Council of California
REFRESH-INTERVAL;VALUE=DURATION:PT1H
X-Robots-Tag:noindex
X-PUBLISHED-TTL:PT1H
BEGIN:VTIMEZONE
TZID:America/Los_Angeles
BEGIN:DAYLIGHT
TZOFFSETFROM:-0800
TZOFFSETTO:-0700
TZNAME:PDT
DTSTART:20240310T100000
END:DAYLIGHT
BEGIN:STANDARD
TZOFFSETFROM:-0700
TZOFFSETTO:-0800
TZNAME:PST
DTSTART:20241103T090000
END:STANDARD
BEGIN:DAYLIGHT
TZOFFSETFROM:-0800
TZOFFSETTO:-0700
TZNAME:PDT
DTSTART:20250309T100000
END:DAYLIGHT
BEGIN:STANDARD
TZOFFSETFROM:-0700
TZOFFSETTO:-0800
TZNAME:PST
DTSTART:20251102T090000
END:STANDARD
BEGIN:DAYLIGHT
TZOFFSETFROM:-0800
TZOFFSETTO:-0700
TZNAME:PDT
DTSTART:20260308T100000
END:DAYLIGHT
BEGIN:STANDARD
TZOFFSETFROM:-0700
TZOFFSETTO:-0800
TZNAME:PST
DTSTART:20261101T090000
END:STANDARD
END:VTIMEZONE
BEGIN:VEVENT
DTSTART;TZID=America/Los_Angeles:20250913T080000
DTEND;TZID=America/Los_Angeles:20250913T100000
DTSTAMP:20260423T213936
CREATED:20250825T013858Z
LAST-MODIFIED:20250825T013858Z
UID:10000054-1757750400-1757757600@www.americanhellenic.org
SUMMARY:"Renovating My Life\, with Aristotle as My Architect" by Fenia on Zoom
DESCRIPTION:Saturday\, September 13\, 2025 10am Central on ZOOM \nArchitect and author Fenia Tsanaka shows how Aristotle’s wisdom can help us “redesign” our lives. Just as the same plot of land can produce very different houses\, the same life circumstances can lead to completely different outcomes—depending on our blueprint. In this lively talk\, Fenia shares practical ways to find meaning\, manage emotions\, improve relationships\, and make better choices. Come ready to be inspired—and maybe start your own life renovation! Register here. \nFenia was born in Athens and is the mother of two. She studied architecture at the National Technical University of Athens. Since then\, she has been the head of an architecture firm\, carrying out studies\, supervising and constructing private projects. Her latest project includes the supervision of the “Onassis National Transplant Center” 7\,000 sq. m. which is an addition to the existing building of the “Onassis Cardiac Surgery Center” in Athens. \nThe book”Renovating My Life\, with Aristotle as My Architect” is available on Google Books and Skroutz.eu. The book is described as a work that connects Aristotle’s philosophical insights with the practicalities of living. If you missed registering above here’s another link: https://us02web.zoom.us/meeting/register/hmzEuZONTfKiK36XkybkZw \n \n\n\n\n\n\n\n\n\n\n\n\n\n\n\n\n\n\n\n\n\n\n\n\n\n\n\n\n\n\n\n\n\n\n\n\n\n\n\n\n\n“This book is the experiential journey of discovering Aristotelian philosophy and how it can change us\,” Tsanaka writes. “Change how we feel\, the way we see situations\, the way we think and ultimately the way we act. In short\, how we can renovate our lives by changing the situations that frustrate us in order to gain a lasting appetite for life.”
URL:https://www.americanhellenic.org/event/renovating-my-life-with-aristotle-as-my-architect-by-fenia-on-zoom/
LOCATION:Zoom Meeting
END:VEVENT
END:VCALENDAR