BEGIN:VCALENDAR
VERSION:2.0
PRODID:-//American Hellenic Council of California - ECPv6.15.16//NONSGML v1.0//EN
CALSCALE:GREGORIAN
METHOD:PUBLISH
X-ORIGINAL-URL:https://www.americanhellenic.org
X-WR-CALDESC:Events for American Hellenic Council of California
REFRESH-INTERVAL;VALUE=DURATION:PT1H
X-Robots-Tag:noindex
X-PUBLISHED-TTL:PT1H
BEGIN:VTIMEZONE
TZID:America/Los_Angeles
BEGIN:DAYLIGHT
TZOFFSETFROM:-0800
TZOFFSETTO:-0700
TZNAME:PDT
DTSTART:20240310T100000
END:DAYLIGHT
BEGIN:STANDARD
TZOFFSETFROM:-0700
TZOFFSETTO:-0800
TZNAME:PST
DTSTART:20241103T090000
END:STANDARD
BEGIN:DAYLIGHT
TZOFFSETFROM:-0800
TZOFFSETTO:-0700
TZNAME:PDT
DTSTART:20250309T100000
END:DAYLIGHT
BEGIN:STANDARD
TZOFFSETFROM:-0700
TZOFFSETTO:-0800
TZNAME:PST
DTSTART:20251102T090000
END:STANDARD
BEGIN:DAYLIGHT
TZOFFSETFROM:-0800
TZOFFSETTO:-0700
TZNAME:PDT
DTSTART:20260308T100000
END:DAYLIGHT
BEGIN:STANDARD
TZOFFSETFROM:-0700
TZOFFSETTO:-0800
TZNAME:PST
DTSTART:20261101T090000
END:STANDARD
END:VTIMEZONE
BEGIN:VEVENT
DTSTART;TZID=America/Los_Angeles:20250406T160000
DTEND;TZID=America/Los_Angeles:20250406T170000
DTSTAMP:20260424T050826
CREATED:20250322T212548Z
LAST-MODIFIED:20250406T032454Z
UID:10000041-1743955200-1743958800@www.americanhellenic.org
SUMMARY:Up Close and Personal - featuring YOLANDA "LINDA" REID CHASSIAKOS\, award-winning author of science fiction-fantasy and mystery thriller books
DESCRIPTION:Yolanda is the author of several novels in the Sammy Greene Thriller Series\, including “Dead Air\,” which won the 2010 Royal Palm Literary Award\, a prestigious recognition for independent authors.  It was followed by the sequel “Devil Wind.”  Other books in the series include “Dirty Deeds and “Deep Waters.” \nYolanda’s book\, “The Zygan Emprise\,” was a winner in the 2024 BookFest competition\, awarded third place in the category of Science Fiction–Action and Adventure. \nYolanda’s works typically blend elements of medical drama and suspense\, often featuring intricate plots with an emphasis on realism and character development. \nMeet Yolanda at next “Up Close and Personal.”  \n  \nSunday\, April 6\, 2025\, 4pm \nLMU Caloyeras Center for Modern Greek Studies \nUniversity Hall 3800\, 3rd Floor.  \nEnter P1 – Free Parking \nBooks will be available for sale and autographing. \nSeating is limited.  Please RSVP by April 4th:  hawcpacific@gmail.com
URL:https://www.americanhellenic.org/event/up-close-and-personal-featuring-yolanda-linda-reid-chassiakos-award-winning-author-of-science-fiction-fantasy-and-mystery-thriller-books/
LOCATION:Loyola Marymount University\, 1 Loyola Marymount University Dr\,\, Los Angeles\, 90045\, United States
END:VEVENT
END:VCALENDAR